BEGIN:VCALENDAR
VERSION:2.0
PRODID:-//ChamberMaster//Event Calendar 2.0//EN
METHOD:PUBLISH
X-PUBLISHED-TTL:P3D
REFRESH-INTERVAL:P3D
CALSCALE:GREGORIAN
BEGIN:VEVENT
DTSTART:20150617T010000Z
DTEND:20150616T070000Z
X-MICROSOFT-CDO-ALLDAYEVENT:FALSE
SUMMARY:Youth for Christ's: ''Be The Story''
DESCRIPTION:What's better than combining an elegant complimentary dinner\, good friends\, and great story? A story you can be a part of. A story that will impact the world.\n\nMUST RSVP to: scyfc@scyfc.com or call 522-9568 ext. 111\n*space is limited*\nContact :	\nPhone :	209-522-9568 ext. 111\nEmail :	scyfc@scyfc.com\nWeb Site :	http://www.scyfc.com/
X-ALT-DESC;FMTTYPE=text/html:What's better than combining an elegant complimentary dinner\, good friends\, and great story? A story you can be a part of. A story that will impact the world.\n\nMUST RSVP to: scyfc@scyfc.com or call 522-9568 ext. 111\n*space is limited*\nContact :	\nPhone :	209-522-9568 ext. 111\nEmail :	scyfc@scyfc.com\nWeb Site :	http://www.scyfc.com/
LOCATION:Surlas 431 12th St Modesto\, CA 95354
UID:e.2695.998
SEQUENCE:3
DTSTAMP:20260420T032200Z
URL:https://business.modchamber.org/events/details/youth-for-christ-s-be-the-story-06-16-2015-998
END:VEVENT

END:VCALENDAR
