BEGIN:VCALENDAR
VERSION:2.0
PRODID:-//ChamberMaster//Event Calendar 2.0//EN
METHOD:PUBLISH
X-PUBLISHED-TTL:P3D
REFRESH-INTERVAL:P3D
CALSCALE:GREGORIAN
BEGIN:VEVENT
DTSTART:20150411T210000Z
DTEND:20150411T070000Z
X-MICROSOFT-CDO-ALLDAYEVENT:FALSE
SUMMARY:Yoga Workshop
DESCRIPTION:Come join us on your mat for the YOGA AFTERNOON WORKSHOP while MC YOGI takes the mike and teaches a yoga class while performing his hits with DJ Drez on the beats! All levels are welcome.\n\nAll tickets are $25\nWorkshop limited to 100 attendees\nLocation: Gallo Center Lobby or Plaza Lawn (TBA)\nContact : 	Gallo Center\nPhone : 	209-338-2100\nEmail : 	\nWeb Site : 	galloarts.org
X-ALT-DESC;FMTTYPE=text/html:Come join us on your mat for the YOGA AFTERNOON WORKSHOP while MC YOGI takes the mike and teaches a yoga class while performing his hits with DJ Drez on the beats! All levels are welcome.\n\nAll tickets are $25\nWorkshop limited to 100 attendees\nLocation: Gallo Center Lobby or Plaza Lawn (TBA)\nContact : 	Gallo Center\nPhone : 	209-338-2100\nEmail : 	\nWeb Site : 	galloarts.org
LOCATION:Gallo Center 1000 I St Modesto\, CA 95354
UID:e.2695.854
SEQUENCE:3
DTSTAMP:20260420T062615Z
URL:https://business.modchamber.org/events/details/yoga-workshop-04-11-2015-854
END:VEVENT

END:VCALENDAR
