BEGIN:VCALENDAR
VERSION:2.0
PRODID:-//ChamberMaster//Event Calendar 2.0//EN
METHOD:PUBLISH
X-PUBLISHED-TTL:P3D
REFRESH-INTERVAL:P3D
CALSCALE:GREGORIAN
BEGIN:VEVENT
DTSTART:20160131T020000Z
DTEND:20160130T080000Z
X-MICROSOFT-CDO-ALLDAYEVENT:FALSE
SUMMARY:Yo Quiero Musica
DESCRIPTION:Delta Kappa Gamma's Fundraiser for Modesto City Schools Music depts.\n\nCuban Food\, music & movie.\n\nMovie: Santiago es Santiago\n\nTickets $25.00\nContact :	State Theatre\nPhone :	BOX OFFICE (209) 527-4697\nEmail :	\nWeb Site :	thestate.org
X-ALT-DESC;FMTTYPE=text/html:Delta Kappa Gamma's Fundraiser for Modesto City Schools Music depts.\n\nCuban Food\, music & movie.\n\nMovie: Santiago es Santiago\n\nTickets $25.00\nContact :	State Theatre\nPhone :	BOX OFFICE (209) 527-4697\nEmail :	\nWeb Site :	thestate.org
LOCATION:State Theatre 1307 J St Modesto\, CA 95354
UID:e.2695.650
SEQUENCE:3
DTSTAMP:20260419T190948Z
URL:https://business.modchamber.org/events/details/yo-quiero-musica-01-30-2016-650
END:VEVENT

END:VCALENDAR
