BEGIN:VCALENDAR
VERSION:2.0
PRODID:-//ChamberMaster//Event Calendar 2.0//EN
METHOD:PUBLISH
X-PUBLISHED-TTL:P3D
REFRESH-INTERVAL:P3D
CALSCALE:GREGORIAN
BEGIN:VEVENT
DTSTART:20150823T000000Z
DTEND:20150822T070000Z
X-MICROSOFT-CDO-ALLDAYEVENT:FALSE
SUMMARY:XFest 2015
DESCRIPTION:60 Bands\, 12 Stages\, 20\,000 People and the World’s Largest Outdoor Disco\, Good Times Downtown! \n\nX Fest is 21 and over only w/ID. No Refunds. Talent is subject to change. X Fest is a Rain or Shine event.\nContact :	\nPhone :	\nEmail :	\nWeb Site :	www.xfestmodesto.com
X-ALT-DESC;FMTTYPE=text/html:60 Bands\, 12 Stages\, 20\,000 People and the World’s Largest Outdoor Disco\, Good Times Downtown! \n\nX Fest is 21 and over only w/ID. No Refunds. Talent is subject to change. X Fest is a Rain or Shine event.\nContact :	\nPhone :	\nEmail :	\nWeb Site :	www.xfestmodesto.com
LOCATION:Downtown Modesto 930 11th St Modesto\, CA 95354
UID:e.2695.1058
SEQUENCE:3
DTSTAMP:20260420T002853Z
URL:https://business.modchamber.org/events/details/xfest-2015-08-22-2015-1058
END:VEVENT

END:VCALENDAR
