BEGIN:VCALENDAR
VERSION:2.0
PRODID:-//ChamberMaster//Event Calendar 2.0//EN
METHOD:PUBLISH
X-PUBLISHED-TTL:P3D
REFRESH-INTERVAL:P3D
CALSCALE:GREGORIAN
BEGIN:VEVENT
DTSTART:20140824T000000Z
DTEND:20140823T080000Z
X-MICROSOFT-CDO-ALLDAYEVENT:FALSE
SUMMARY:Xclamation Festival (X-Fest)
DESCRIPTION:Over the past 15 years\, Chris Ricci Presents has brought hundreds of bands\, on hundreds of stages in front of over one-hundred thousand people for Xclamation Festival in Downtown Modesto. This year's X Fest takes place on Saturday\, August 23rd\, 2014 with the gates opening at 5:00 P.M.\n\nX Fest will draw 20\,000 people to Downtown Modesto\, and feature some of the best and most popular touring acts in the country. For more information on featured performers and ticket sale locations\, please visit www.xfestmodesto.com
X-ALT-DESC;FMTTYPE=text/html:Over the past 15 years\, Chris Ricci Presents has brought hundreds of bands\, on hundreds of stages in front of over one-hundred thousand people for Xclamation Festival in Downtown Modesto. This year's X Fest takes place on Saturday\, August 23rd\, 2014 with the gates opening at 5:00 P.M.\n\nX Fest will draw 20\,000 people to Downtown Modesto\, and feature some of the best and most popular touring acts in the country. For more information on featured performers and ticket sale locations\, please visit www.xfestmodesto.com
LOCATION:Downtown Modesto
UID:e.2695.527
SEQUENCE:3
DTSTAMP:20260422T194508Z
URL:https://business.modchamber.org/events/details/xclamation-festival-x-fest-08-23-2014-527
END:VEVENT

END:VCALENDAR
