BEGIN:VCALENDAR
VERSION:2.0
PRODID:-//ChamberMaster//Event Calendar 2.0//EN
METHOD:PUBLISH
X-PUBLISHED-TTL:P3D
REFRESH-INTERVAL:P3D
CALSCALE:GREGORIAN
BEGIN:VEVENT
DTSTART:20160205T193000Z
DTEND:20160205T213000Z
X-MICROSOFT-CDO-ALLDAYEVENT:FALSE
SUMMARY:Women Wear Red Luncheon -Memorial Hospital Foundation
DESCRIPTION:Memorial Hospital Foundation presents an inspiring\, informative and motivating luncheon event.\n\n$45.00 a ticket\n\nSpeaker: TERESA DANIELE\, M.D\nContact :	\nPhone :	209-530-3600\nEmail :	\nWeb Site :
X-ALT-DESC;FMTTYPE=text/html:Memorial Hospital Foundation presents an inspiring\, informative and motivating luncheon event.\n\n$45.00 a ticket\n\nSpeaker: TERESA DANIELE\, M.D\nContact :	\nPhone :	209-530-3600\nEmail :	\nWeb Site :	
LOCATION:Martin G. Petersen Event Center 720 12th St Modesto\, CA 95354
UID:e.2695.1414
SEQUENCE:3
DTSTAMP:20260419T165044Z
URL:https://business.modchamber.org/events/details/women-wear-red-luncheon-memorial-hospital-foundation-02-05-2016-1414
END:VEVENT

END:VCALENDAR
