BEGIN:VCALENDAR
VERSION:2.0
PRODID:-//ChamberMaster//Event Calendar 2.0//EN
METHOD:PUBLISH
X-PUBLISHED-TTL:P3D
REFRESH-INTERVAL:P3D
CALSCALE:GREGORIAN
BEGIN:VEVENT
DTSTART:20150322T030000Z
DTEND:20150321T070000Z
X-MICROSOFT-CDO-ALLDAYEVENT:FALSE
SUMMARY:Women Of Ireland
DESCRIPTION:For the first time\, a stage show brings together all the most adored elements associated with Irish and Celtic music\, song and dance in one brand new super spectacle. Women of Ireland features an all-female lineup of Irish step dancers comprising three long-term dancers from Riverdance\, the lead dancer with Michael Flatley’s Lord of the Dance and a very special guest male dancer\, Anthony Fallon\, the four-time world champion and former lead dancer with Riverdance. All this\, plus show-stopping vocal and instrumental ensemble pieces\, too!\nContact :	Gallo Center\nPhone :	209-338-2100\nEmail :	\nWeb Site :	galloarts.org
X-ALT-DESC;FMTTYPE=text/html:For the first time\, a stage show brings together all the most adored elements associated with Irish and Celtic music\, song and dance in one brand new super spectacle. Women of Ireland features an all-female lineup of Irish step dancers comprising three long-term dancers from Riverdance\, the lead dancer with Michael Flatley’s Lord of the Dance and a very special guest male dancer\, Anthony Fallon\, the four-time world champion and former lead dancer with Riverdance. All this\, plus show-stopping vocal and instrumental ensemble pieces\, too!\nContact :	Gallo Center\nPhone :	209-338-2100\nEmail :	\nWeb Site :	galloarts.org
LOCATION:Gallo Center 1000 I Street Modesto\, CA 95354
UID:e.2695.811
SEQUENCE:3
DTSTAMP:20260420T074141Z
URL:https://business.modchamber.org/events/details/women-of-ireland-03-21-2015-811
END:VEVENT

END:VCALENDAR
