BEGIN:VCALENDAR
VERSION:2.0
PRODID:-//ChamberMaster//Event Calendar 2.0//EN
METHOD:PUBLISH
X-PUBLISHED-TTL:P3D
REFRESH-INTERVAL:P3D
CALSCALE:GREGORIAN
BEGIN:VEVENT
DTSTART:20160422T020000Z
DTEND:20160421T070000Z
X-MICROSOFT-CDO-ALLDAYEVENT:FALSE
SUMMARY:Willy Wonka
DESCRIPTION:Presented by Modesto Christian Performing Arts\n\nThe last of five coveted "golden tickets" falls into the hands of a sweet but very poor boy. He and his grandpa then get a tour of the strangest chocolate factory in the world. The owner leads five young winners on a thrilling and often dangerous tour of his factory.\nContact : 	Gallo Center\nPhone : 	209-338-2100\nEmail : 	\nWeb Site : 	galloarts.org
X-ALT-DESC;FMTTYPE=text/html:Presented by Modesto Christian Performing Arts\n\nThe last of five coveted "golden tickets" falls into the hands of a sweet but very poor boy. He and his grandpa then get a tour of the strangest chocolate factory in the world. The owner leads five young winners on a thrilling and often dangerous tour of his factory.\nContact : 	Gallo Center\nPhone : 	209-338-2100\nEmail : 	\nWeb Site : 	galloarts.org
LOCATION:Gallo Center 1000 I Street Modesto\, CA 95354
UID:e.2695.1625
SEQUENCE:3
DTSTAMP:20260419T140714Z
URL:https://business.modchamber.org/events/details/willy-wonka-04-21-2016-1625
END:VEVENT

END:VCALENDAR
