BEGIN:VCALENDAR
VERSION:2.0
PRODID:-//ChamberMaster//Event Calendar 2.0//EN
METHOD:PUBLISH
X-PUBLISHED-TTL:P3D
REFRESH-INTERVAL:P3D
CALSCALE:GREGORIAN
BEGIN:VEVENT
DTSTART:20151010T170000Z
DTEND:20151010T220000Z
X-MICROSOFT-CDO-ALLDAYEVENT:FALSE
SUMMARY:Wild Planet Day
DESCRIPTION:A family event with hands on science activities.\n\nFamily fun for all ages!\n\nHands-on science activities include:\nZombie Blood typing\nBuilding Blue-Bird Boxes\nDissecting Squid\nSun Telescopes\nRocks & Minerals\nDissecting Owl Pellets\nAeronautics\nFace Painting\nScience on a Sphere\n& more!\n\nFeaturing Dr. Al Chemist Show\nOver 50 Reptiles & Amphibians!\nWoodsy Owl & McGruff the crime dog!\nEnoch's High School CSI students\nFOOD!\nPlanetarium Shows (additional cost)\n\nAdmission $8.00 per person\nFamily Pass (up to 6 people) $20.00\nChildren under 4 FREE\nContact :	Great Valley Museum\nPhone :	209-575-6196\nEmail :	\nWeb Site :	mjc.edu/gvm
X-ALT-DESC;FMTTYPE=text/html:A family event with hands on science activities.\n\nFamily fun for all ages!\n\nHands-on science activities include:\nZombie Blood typing\nBuilding Blue-Bird Boxes\nDissecting Squid\nSun Telescopes\nRocks & Minerals\nDissecting Owl Pellets\nAeronautics\nFace Painting\nScience on a Sphere\n& more!\n\nFeaturing Dr. Al Chemist Show\nOver 50 Reptiles & Amphibians!\nWoodsy Owl & McGruff the crime dog!\nEnoch's High School CSI students\nFOOD!\nPlanetarium Shows (additional cost)\n\nAdmission $8.00 per person\nFamily Pass (up to 6 people) $20.00\nChildren under 4 FREE\nContact :	Great Valley Museum\nPhone :	209-575-6196\nEmail :	\nWeb Site :	mjc.edu/gvm
LOCATION:Great Valley Museum\, West Campus MJC 2201 Blue Gum Ave. Modesto\, CA 95354
UID:e.2695.1219
SEQUENCE:3
DTSTAMP:20260419T230209Z
URL:https://business.modchamber.org/events/details/wild-planet-day-10-10-2015-1219
END:VEVENT

END:VCALENDAR
