BEGIN:VCALENDAR
VERSION:2.0
PRODID:-//ChamberMaster//Event Calendar 2.0//EN
METHOD:PUBLISH
X-PUBLISHED-TTL:P3D
REFRESH-INTERVAL:P3D
CALSCALE:GREGORIAN
BEGIN:VEVENT
DTSTART:20160305T180000Z
DTEND:20160305T193000Z
X-MICROSOFT-CDO-ALLDAYEVENT:FALSE
SUMMARY:What Every Family Should Know About Estate Planning
DESCRIPTION:Informational seminar to help you prepare for life's important decisions.
X-ALT-DESC;FMTTYPE=text/html:Informational seminar to help you prepare for life's important decisions.
LOCATION:Casa de Modesto Retirement Center 1745 Eldena Way Modesto\, CA 95350
UID:e.2695.1556
SEQUENCE:3
DTSTAMP:20260419T154546Z
URL:https://business.modchamber.org/events/details/what-every-family-should-know-about-estate-planning-03-05-2016-1556
END:VEVENT

END:VCALENDAR
