BEGIN:VCALENDAR
VERSION:2.0
PRODID:-//ChamberMaster//Event Calendar 2.0//EN
METHOD:PUBLISH
X-PUBLISHED-TTL:P3D
REFRESH-INTERVAL:P3D
CALSCALE:GREGORIAN
BEGIN:VEVENT
DTSTART:20260109T163000Z
DTEND:20260109T173000Z
X-MICROSOFT-CDO-ALLDAYEVENT:FALSE
SUMMARY:Welcome & Ambassador Committee Meeting - January 9 2026
DESCRIPTION:The Ambassador and Welcome Team Committee is made up of dedicated Chamber member volunteers who help strengthen connections within our business community.\n\n\n\nThe Welcome Team attends ribbon cuttings\, mixers\, and events to greet new members and build meaningful relationships with existing members.\n\nThe Ambassador Committee serves as a key liaison to the Chamber\, with in-depth knowledge of Chamber programs and resources\, ensuring members feel supported\, informed\, and engaged throughout their membership.\n\nFor more information\, please contact the Membership Coordinator at mmercado@modchamber.org.
X-ALT-DESC;FMTTYPE=text/html:<div class="text-base my-auto mx-auto pb-10 [--thread-content-margin:--spacing(4)] @w-sm/main:[--thread-content-margin:--spacing(6)] @w-lg/main:[--thread-content-margin:--spacing(16)] px-(--thread-content-margin)" style="color: rgb(0\, 0\, 0)\; font-size: medium\;">\n<div class="[--thread-content-max-width:40rem] @w-lg/main:[--thread-content-max-width:48rem] mx-auto max-w-(--thread-content-max-width) flex-1 group/turn-messages focus-visible:outline-hidden relative flex w-full min-w-0 flex-col agent-turn" tabindex="-1">\n<div class="flex max-w-full flex-col grow">\n<div class="min-h-8 text-message relative flex w-full flex-col items-end gap-2 text-start break-words whitespace-normal [.text-message+&amp\;]:mt-1" data-message-author-role="assistant" data-message-id="ee831f36-d8b2-4328-aaf4-c234a178df53" data-message-model-slug="gpt-5-2" dir="auto">\n<div class="flex w-full flex-col gap-1 empty:hidden first:pt-[1px]">\n<div class="markdown prose dark:prose-invert w-full break-words light markdown-new-styling">\n<p data-end="294" data-start="0">The Ambassador and Welcome Team Committee is made up of dedicated Chamber member volunteers who help strengthen connections within our business community.<br />\n<br />\nThe Welcome Team attends ribbon cuttings\, mixers\, and events to greet new members and build meaningful relationships with existing members.</p>\n\n<p data-end="503" data-start="296">The Ambassador Committee serves as a key liaison to the Chamber\, with in-depth knowledge of Chamber programs and resources\, ensuring members feel supported\, informed\, and engaged throughout their membership.</p>\n\n<p data-end="596" data-is-last-node="" data-is-only-node="" data-start="505">For more information\, please contact the Membership Coordinator at <a class="decorated-link cursor-pointer" data-end="595" data-start="572" rel="noopener">mmercado@modchamber.org<span aria-hidden="true" class="ms-0.5 inline-block align-middle leading-none"><svg aria-hidden="true" class="block h-[0.75em] w-[0.75em] stroke-current stroke-[0.75]" data-rtl-flip="" height="20" width="20" xmlns="http://www.w3.org/2000/svg"><use fill="currentColor" href="/cdn/assets/sprites-core-5p0gevgh.svg#304883"></use></svg></span></a>.</p>\n</div>\n</div>\n</div>\n</div>\n</div>\n</div>\n
LOCATION:1114 J St. Modesto\, CA 95354 Modesto Chamber Of Commerce - Conference Room
UID:e.2695.12995
SEQUENCE:3
DTSTAMP:20260424T174228Z
URL:https://business.modchamber.org/events/details/welcome-ambassador-committee-meeting-january-9-2026-12995
END:VEVENT

END:VCALENDAR
