BEGIN:VCALENDAR
VERSION:2.0
PRODID:-//ChamberMaster//Event Calendar 2.0//EN
METHOD:PUBLISH
X-PUBLISHED-TTL:P3D
REFRESH-INTERVAL:P3D
CALSCALE:GREGORIAN
BEGIN:VEVENT
DTSTART:20260206T163000Z
DTEND:20260206T173000Z
X-MICROSOFT-CDO-ALLDAYEVENT:FALSE
SUMMARY:Welcome & Ambassador Committee Meeting - February 6 2026
DESCRIPTION:The Ambassador and Welcome Team Committee is made up of dedicated Chamber member volunteers who help strengthen connections within our business community.\n\n\n\nThe Welcome Team attends ribbon cuttings\, mixers\, and events to greet new members and build meaningful relationships with existing members.\n\nThe Ambassador Committee serves as a key liaison to the Chamber\, with in-depth knowledge of Chamber programs and resources\, ensuring members feel supported\, informed\, and engaged throughout their membership.\n\nFor more information\, please contact the Membership Coordinator\, Michell Mercado at mmercado@modchamber.org
X-ALT-DESC;FMTTYPE=text/html:<p data-end="294" data-start="0" style="box-sizing: border-box\; margin: 0px 0px 1rem\; color: rgb(0\, 0\, 0)\; font-family: Arial\, Helvetica\, Tahoma\, san-serif\; font-size: medium\;">The Ambassador and Welcome Team Committee is made up of dedicated Chamber member volunteers who help strengthen connections within our business community.<br style="box-sizing: border-box\;" />\n<br style="box-sizing: border-box\;" />\nThe Welcome Team attends ribbon cuttings\, mixers\, and events to greet new members and build meaningful relationships with existing members.</p>\n\n<p data-end="503" data-start="296" style="box-sizing: border-box\; margin: 0px 0px 1rem\; color: rgb(0\, 0\, 0)\; font-family: Arial\, Helvetica\, Tahoma\, san-serif\; font-size: medium\;">The Ambassador Committee serves as a key liaison to the Chamber\, with in-depth knowledge of Chamber programs and resources\, ensuring members feel supported\, informed\, and engaged throughout their membership.</p>\n\n<p data-end="596" data-is-last-node="" data-is-only-node="" data-start="505" style="box-sizing: border-box\; margin: 0px 0px 1rem\; color: rgb(0\, 0\, 0)\; font-family: Arial\, Helvetica\, Tahoma\, san-serif\; font-size: medium\;">For more information\, please contact the Membership Coordinator\, Michell Mercado at&nbsp\;<a class="decorated-link cursor-pointer" data-end="595" data-start="572" rel="noopener" style="box-sizing: border-box\; color: inherit\; background-color: transparent\; overflow-wrap: break-word\;">mmercado@modchamber.org</a></p>\n
LOCATION:ONLINE
UID:e.2695.13002
SEQUENCE:3
DTSTAMP:20260425T120809Z
URL:https://business.modchamber.org/events/details/welcome-ambassador-committee-meeting-february-6-2026-13002
END:VEVENT

END:VCALENDAR
