BEGIN:VCALENDAR
VERSION:2.0
PRODID:-//ChamberMaster//Event Calendar 2.0//EN
METHOD:PUBLISH
X-PUBLISHED-TTL:P3D
REFRESH-INTERVAL:P3D
CALSCALE:GREGORIAN
BEGIN:VEVENT
DTSTART:20160417T180000Z
DTEND:20160417T220000Z
X-MICROSOFT-CDO-ALLDAYEVENT:FALSE
SUMMARY:Wedding Expo
DESCRIPTION:Giveaways & Prizes\n\nWedding related vendors\n\nMini fashion shows\n\nI DO DIY area\nContact : 	\nPhone : 	\nEmail : 	\nWeb Site : 	www.getmarriedbridal.com
X-ALT-DESC;FMTTYPE=text/html:	Giveaways & Prizes\n\nWedding related vendors\n\nMini fashion shows\n\nI DO DIY area\nContact : 	\nPhone : 	\nEmail : 	\nWeb Site : 	www.getmarriedbridal.com
LOCATION:Centre Plaza 1000 L Street Modesto\, CA 95354
UID:e.2695.1583
SEQUENCE:3
DTSTAMP:20260419T152451Z
URL:https://business.modchamber.org/events/details/wedding-expo-04-17-2016-1583
END:VEVENT

END:VCALENDAR
