BEGIN:VCALENDAR
VERSION:2.0
PRODID:-//ChamberMaster//Event Calendar 2.0//EN
METHOD:PUBLISH
X-PUBLISHED-TTL:P3D
REFRESH-INTERVAL:P3D
CALSCALE:GREGORIAN
BEGIN:VEVENT
DTSTART;VALUE=DATE:20151204
DTEND;VALUE=DATE:20151206
TRANSP:TRANSPARENT
X-MICROSOFT-CDO-ALLDAYEVENT:TRUE
SUMMARY:Warren Miller's Chasing Shadows
DESCRIPTION:Chasing Shadows\, the 66th annual winter sports film from Warren Miller Entertainment\, is a celebration of why we commit ourselves every winter to a passion that’s guaranteed to melt away every spring. Warren Miller once said\, “A pair of skis are the ultimate transportation to freedom\,” and this year\, we’re chasing storms\, snow\, lines that live on the world’s highest peaks\, and the freedom that these things grant us. Follow the world’s biggest names in skiing and snowboarding on a breathtaking cinematic journey as they push toward the edge. Watch JT Holmes\, Seth Wescott\, Caroline Gleich\, Steven Nyman\, Marcus Caston and more as they pursue turns on the mountains of their dreams: Chamonix\, Alaska’s Chugach\, Utah’s Wasatch and the mightiest range of them all: the Himalaya.Explore what it means to be inspired\, and what it is about exotic locations and snow-covered summits that motivate us to keep searching for more. Tickets can be purchased online at TheState.org\, at The State Theatre box office or by going to http://www.societyforhandicapped.org/special-events/warren-miller-movie.php. All those attending will receive one free lift ticket to Bear Valley Mountain Ski Resort.\nFri. Dec. 4 at 6:30 and 9 p.m. \nSat. Dec. 5 at 4 and 7:30 p.m. \n(Doors half an hour before the start of each film. )\nTickets are $20 each\nContact :	State Theatre\nPhone :	BOX OFFICE (209) 527-4697\nEmail :	\nWeb Site :	thestate.org
X-ALT-DESC;FMTTYPE=text/html:Chasing Shadows\, the 66th annual winter sports film from Warren Miller Entertainment\, is a celebration of why we commit ourselves every winter to a passion that’s guaranteed to melt away every spring. Warren Miller once said\, “A pair of skis are the ultimate transportation to freedom\,” and this year\, we’re chasing storms\, snow\, lines that live on the world’s highest peaks\, and the freedom that these things grant us. Follow the world’s biggest names in skiing and snowboarding on a breathtaking cinematic journey as they push toward the edge. Watch JT Holmes\, Seth Wescott\, Caroline Gleich\, Steven Nyman\, Marcus Caston and more as they pursue turns on the mountains of their dreams: Chamonix\, Alaska’s Chugach\, Utah’s Wasatch and the mightiest range of them all: the Himalaya.Explore what it means to be inspired\, and what it is about exotic locations and snow-covered summits that motivate us to keep searching for more. Tickets can be purchased online at TheState.org\, at The State Theatre box office or by going to http://www.societyforhandicapped.org/special-events/warren-miller-movie.php. All those attending will receive one free lift ticket to Bear Valley Mountain Ski Resort.\nFri. Dec. 4 at 6:30 and 9 p.m. \nSat. Dec. 5 at 4 and 7:30 p.m. \n(Doors half an hour before the start of each film. )\nTickets are $20 each\nContact :	State Theatre\nPhone :	BOX OFFICE (209) 527-4697\nEmail :	\nWeb Site :	thestate.org
LOCATION:State Theatre 1307 J St Modesto\, CA 95354
UID:e.2695.1287
SEQUENCE:3
DTSTAMP:20260419T190919Z
URL:https://business.modchamber.org/events/details/warren-miller-s-chasing-shadows-12-04-2015-1287
END:VEVENT

END:VCALENDAR
