BEGIN:VCALENDAR
VERSION:2.0
PRODID:-//ChamberMaster//Event Calendar 2.0//EN
METHOD:PUBLISH
X-PUBLISHED-TTL:P3D
REFRESH-INTERVAL:P3D
CALSCALE:GREGORIAN
BEGIN:VEVENT
DTSTART:20151030T023000Z
DTEND:20151029T070000Z
X-MICROSOFT-CDO-ALLDAYEVENT:FALSE
SUMMARY:WAR
DESCRIPTION:They were one of the most popular funk groups to emerge from '70s\, and also one of the most eclectic\, freely melding soul\, Latin\, jazz\, blues\, reggae\, and rock influences into an effortlessly funky whole. Although WAR’s lyrics were sometimes political in nature\, their music almost always had a sunny\, laid-back vibe. The band also transcended racial and cultural barriers with a multi-ethnic line-up. Their hits still resonate: "Low Rider\,” "Spill the Wine\,” "Summer\,” "Why Can't We Be Friends?\,” "The Cisco Kid” and "The World Is a Ghetto.”\nContact :	Gallo Center\nPhone :	209-338-2100\nEmail :	\nWeb Site :	galloarts.org
X-ALT-DESC;FMTTYPE=text/html:They were one of the most popular funk groups to emerge from '70s\, and also one of the most eclectic\, freely melding soul\, Latin\, jazz\, blues\, reggae\, and rock influences into an effortlessly funky whole. Although WAR’s lyrics were sometimes political in nature\, their music almost always had a sunny\, laid-back vibe. The band also transcended racial and cultural barriers with a multi-ethnic line-up. Their hits still resonate: "Low Rider\,” "Spill the Wine\,” "Summer\,” "Why Can't We Be Friends?\,” "The Cisco Kid” and "The World Is a Ghetto.”\nContact :	Gallo Center\nPhone :	209-338-2100\nEmail :	\nWeb Site :	galloarts.org
LOCATION:Gallo Center 1000 I St Modesto\, CA 95354
UID:e.2695.1248
SEQUENCE:3
DTSTAMP:20260419T214130Z
URL:https://business.modchamber.org/events/details/war-10-29-2015-1248
END:VEVENT

END:VCALENDAR
