BEGIN:VCALENDAR
VERSION:2.0
PRODID:-//ChamberMaster//Event Calendar 2.0//EN
METHOD:PUBLISH
X-PUBLISHED-TTL:P3D
REFRESH-INTERVAL:P3D
CALSCALE:GREGORIAN
BEGIN:VEVENT
DTSTART:20150329T030000Z
DTEND:20150328T070000Z
X-MICROSOFT-CDO-ALLDAYEVENT:FALSE
SUMMARY:Wanda Sykes - Sold Out!
DESCRIPTION:Wanda Sykes has been called "one of the funniest stand-up comics" by her peers and ranks among Entertainment Weekly's 25 Funniest People in America. Her witty stand up has sent her career in many different areas. In addition to very popular specials on HBO and Comedy Central\, Sykes has appeared on such television series as “Curb Your Enthusiasm” and “New Adventures of Old Christine\,” and currently stars in “Alpha House” on Amazon Prime. Her films include “Evan Almighty\,” “Monster-in-Law\,” “Ice Age” and numerous others. \n\nCaution: This show contains adult themes.\nContact :	Gallo Center\nPhone :	209-338-2100\nEmail :	\nWeb Site :	galloarts.org
X-ALT-DESC;FMTTYPE=text/html:Wanda Sykes has been called "one of the funniest stand-up comics" by her peers and ranks among Entertainment Weekly's 25 Funniest People in America. Her witty stand up has sent her career in many different areas. In addition to very popular specials on HBO and Comedy Central\, Sykes has appeared on such television series as “Curb Your Enthusiasm” and “New Adventures of Old Christine\,” and currently stars in “Alpha House” on Amazon Prime. Her films include “Evan Almighty\,” “Monster-in-Law\,” “Ice Age” and numerous others. \n\nCaution: This show contains adult themes.\nContact :	Gallo Center\nPhone :	209-338-2100\nEmail :	\nWeb Site :	galloarts.org
LOCATION:Gallo Center 1000 I Street Modesto\, CA 95354
UID:e.2695.828
SEQUENCE:3
DTSTAMP:20260420T074055Z
URL:https://business.modchamber.org/events/details/wanda-sykes-sold-out-03-28-2015-828
END:VEVENT

END:VCALENDAR
