BEGIN:VCALENDAR
VERSION:2.0
PRODID:-//ChamberMaster//Event Calendar 2.0//EN
METHOD:PUBLISH
X-PUBLISHED-TTL:P3D
REFRESH-INTERVAL:P3D
CALSCALE:GREGORIAN
BEGIN:VEVENT
DTSTART:20150418T150000Z
DTEND:20150418T070000Z
X-MICROSOFT-CDO-ALLDAYEVENT:FALSE
SUMMARY:Walk Ms Modesto 2015
DESCRIPTION:8 a.m. registration\n\n9 a.m. 2K & 5K Walks\n\nConnect. Walk MS.\nWalk MS connects people living with MS and those who care about them. It is an experience unlike any other - a day to come together\, to celebrate the progress we've made and to show the power of our connections.\nWhen you participate in Walk MS\, the funds you raise give hope to the more than 12\,000 people living with MS in our community. The dollars raised support life-changing programs and cutting-edge research. Every connection counts.\nContact : 	Andrea Covolo\nPhone : 	415-230-6678\nEmail : 	andrea.covolo@nmss.org\nWeb Site : 	www.walkcan.nationalmssociety.org
X-ALT-DESC;FMTTYPE=text/html:	8 a.m. registration\n\n9 a.m. 2K & 5K Walks\n\nConnect. Walk MS.\nWalk MS connects people living with MS and those who care about them. It is an experience unlike any other - a day to come together\, to celebrate the progress we've made and to show the power of our connections.\nWhen you participate in Walk MS\, the funds you raise give hope to the more than 12\,000 people living with MS in our community. The dollars raised support life-changing programs and cutting-edge research. Every connection counts.\nContact : 	Andrea Covolo\nPhone : 	415-230-6678\nEmail : 	andrea.covolo@nmss.org\nWeb Site : 	www.walkcan.nationalmssociety.org
LOCATION:Downey Park 1200 Brighton Ave Modesto\, CA 95356
UID:e.2695.880
SEQUENCE:3
DTSTAMP:20260420T073535Z
URL:https://business.modchamber.org/events/details/walk-ms-modesto-2015-04-18-2015-880
END:VEVENT

END:VCALENDAR
