BEGIN:VCALENDAR
VERSION:2.0
PRODID:-//ChamberMaster//Event Calendar 2.0//EN
METHOD:PUBLISH
X-PUBLISHED-TTL:P3D
REFRESH-INTERVAL:P3D
CALSCALE:GREGORIAN
BEGIN:VEVENT
DTSTART;VALUE=DATE:20160416
DTEND;VALUE=DATE:20160417
TRANSP:TRANSPARENT
X-MICROSOFT-CDO-ALLDAYEVENT:TRUE
SUMMARY:Walk MS: Central Valley 2016
DESCRIPTION:Walk to create a world free of MS.\nEnding multiple sclerosis for good will take all of us. It’s why Walk MS matters so much. And it’s why you matter so much. Walk MS helps us team up with friends\, loved ones and co-workers to change the world for everyone affected by MS. Together\, we become a powerful force. And with every step we take\, every dollar we raise…we’re that much closer. Together\, we will end MS forever.\nContact :	Andrea Covolo\nPhone :	415-230-6678\nEmail :	\nWeb Site :	http://main.nationalmssociety.org/
X-ALT-DESC;FMTTYPE=text/html:Walk to create a world free of MS.\nEnding multiple sclerosis for good will take all of us. It’s why Walk MS matters so much. And it’s why you matter so much. Walk MS helps us team up with friends\, loved ones and co-workers to change the world for everyone affected by MS. Together\, we become a powerful force. And with every step we take\, every dollar we raise…we’re that much closer. Together\, we will end MS forever.\nContact :	Andrea Covolo\nPhone :	415-230-6678\nEmail :	\nWeb Site :	http://main.nationalmssociety.org/\n
LOCATION:Beyer Park 3700 Beyer Park Dr Modesto\, CA 95355
UID:e.2695.1481
SEQUENCE:3
DTSTAMP:20260419T140725Z
URL:https://business.modchamber.org/events/details/walk-ms-central-valley-2016-04-16-2016-1481
END:VEVENT

END:VCALENDAR
