BEGIN:VCALENDAR
VERSION:2.0
PRODID:-//ChamberMaster//Event Calendar 2.0//EN
METHOD:PUBLISH
X-PUBLISHED-TTL:P3D
REFRESH-INTERVAL:P3D
CALSCALE:GREGORIAN
BEGIN:VEVENT
DTSTART:20151031T023000Z
DTEND:20151030T070000Z
X-MICROSOFT-CDO-ALLDAYEVENT:FALSE
SUMMARY:VLADIMIR CHERNOV
DESCRIPTION:VLADIMIR CHERNOV\nMUSIC LIVES! The MJC Recital Series\n\nIn this sixth Music Lives! recital series collaboration between the Gallo Center and the Modesto Junior College Music Department\, the brilliant Russian baritone Vladimir Chernov will perform a selection from some of the 40 leading roles he has sung over his career. A professor of vocal studies at UCLA since 2006\, Mr. Chernov has appeared at many of the many of the most prestigious opera houses in the world: Metropolitan Opera\, Covent Garden\, La Scala\, Teatro Colon\, Paris Opera\, Lyric Opera of Chicago\, San Francisco Opera and Vienna State Opera\, performing with many of today's great conductors\, including James Levine and Seiji Ozawa.\nContact :	Gallo Center\nPhone :	209-338-2100\nEmail :	\nWeb Site :	galloarts.org
X-ALT-DESC;FMTTYPE=text/html:VLADIMIR CHERNOV\nMUSIC LIVES! The MJC Recital Series\n\nIn this sixth Music Lives! recital series collaboration between the Gallo Center and the Modesto Junior College Music Department\, the brilliant Russian baritone Vladimir Chernov will perform a selection from some of the 40 leading roles he has sung over his career. A professor of vocal studies at UCLA since 2006\, Mr. Chernov has appeared at many of the many of the most prestigious opera houses in the world: Metropolitan Opera\, Covent Garden\, La Scala\, Teatro Colon\, Paris Opera\, Lyric Opera of Chicago\, San Francisco Opera and Vienna State Opera\, performing with many of today's great conductors\, including James Levine and Seiji Ozawa.\nContact :	Gallo Center\nPhone :	209-338-2100\nEmail :	\nWeb Site :	galloarts.org
LOCATION:Gallo Center 1000 I St Modesto\, CA 95354
UID:e.2695.1249
SEQUENCE:3
DTSTAMP:20260419T214633Z
URL:https://business.modchamber.org/events/details/vladimir-chernov-10-30-2015-1249
END:VEVENT

END:VCALENDAR
