BEGIN:VCALENDAR
VERSION:2.0
PRODID:-//ChamberMaster//Event Calendar 2.0//EN
METHOD:PUBLISH
X-PUBLISHED-TTL:P3D
REFRESH-INTERVAL:P3D
CALSCALE:GREGORIAN
BEGIN:VEVENT
DTSTART;VALUE=DATE:20131116
DTEND;VALUE=DATE:20131117
TRANSP:TRANSPARENT
X-MICROSOFT-CDO-ALLDAYEVENT:TRUE
SUMMARY:Vintage Faire
DESCRIPTION:Central West Ballet will be at the Vintage Faire Mall. Join us as we spread the holiday cheer.
X-ALT-DESC;FMTTYPE=text/html:Central West Ballet will be at the Vintage Faire Mall. Join us as we spread the holiday cheer.
LOCATION:5039 Pentecost Dr. Modesto\, CA 95356
UID:e.2695.315
SEQUENCE:3
DTSTAMP:20260423T115809Z
URL:https://business.modchamber.org/events/details/vintage-faire-11-16-2013-315
END:VEVENT

END:VCALENDAR
