BEGIN:VCALENDAR
VERSION:2.0
PRODID:-//ChamberMaster//Event Calendar 2.0//EN
METHOD:PUBLISH
X-PUBLISHED-TTL:P3D
REFRESH-INTERVAL:P3D
CALSCALE:GREGORIAN
BEGIN:VEVENT
DTSTART:20160416T180000Z
DTEND:20160416T203000Z
X-MICROSOFT-CDO-ALLDAYEVENT:FALSE
SUMMARY:Victims' Right Rally & Family Safety Fair
DESCRIPTION:Presented by the Stanislaus County District Attorney's Office & The Family Justice Center.\n\nDetails TBA\nContact : 	\nPhone : 	\nEmail : 	\nWeb Site :
X-ALT-DESC;FMTTYPE=text/html:	Presented by the Stanislaus County District Attorney's Office & The Family Justice Center.\n\nDetails TBA\nContact : 	\nPhone : 	\nEmail : 	\nWeb Site :
LOCATION:Courthouse Lawn 1100 I Street Modesto\, CA 95354
UID:e.2695.1582
SEQUENCE:3
DTSTAMP:20260419T141410Z
URL:https://business.modchamber.org/events/details/victims-right-rally-family-safety-fair-04-16-2016-1582
END:VEVENT

END:VCALENDAR
