BEGIN:VCALENDAR
VERSION:2.0
PRODID:-//ChamberMaster//Event Calendar 2.0//EN
METHOD:PUBLISH
X-PUBLISHED-TTL:P3D
REFRESH-INTERVAL:P3D
CALSCALE:GREGORIAN
BEGIN:VEVENT
DTSTART:20160525T150000Z
DTEND:20160526T003000Z
X-MICROSOFT-CDO-ALLDAYEVENT:FALSE
SUMMARY:Veteran & Farmers Resources Workshop
DESCRIPTION:Admission is FREE.\n\nUDA & Community Resources for Veterans:\n\n-Agricultural Loans\n-Career Opportunities\n-Volunteer Opportunities\n-Internship Opportunities\n-Become a Farmers/ Rancher/ Producer\n-Business Essential/ Tools & Resources\n\nRegistration starts at 8:00am\n\nLunch is provided\, please RSVP by May 20th.\nContact : 	Carmen Johnson\nPhone : 	209-491-9320\nEmail : 	\nWeb Site :
X-ALT-DESC;FMTTYPE=text/html:	Admission is FREE.\n\nUDA & Community Resources for Veterans:\n\n-Agricultural Loans\n-Career Opportunities\n-Volunteer Opportunities\n-Internship Opportunities\n-Become a Farmers/ Rancher/ Producer\n-Business Essential/ Tools & Resources\n\nRegistration starts at 8:00am\n\nLunch is provided\, please RSVP by May 20th.\nContact : 	Carmen Johnson\nPhone : 	209-491-9320\nEmail : 	\nWeb Site :
LOCATION:Stanislaus Agricultural Center\, Harvest Hall 3800 Cornucopia Way Modesto\, CA 95358
UID:e.2695.1705
SEQUENCE:3
DTSTAMP:20260419T124834Z
URL:https://business.modchamber.org/events/details/veteran-farmers-resources-workshop-05-25-2016-1705
END:VEVENT

END:VCALENDAR
