BEGIN:VCALENDAR
VERSION:2.0
PRODID:-//ChamberMaster//Event Calendar 2.0//EN
METHOD:PUBLISH
X-PUBLISHED-TTL:P3D
REFRESH-INTERVAL:P3D
CALSCALE:GREGORIAN
BEGIN:VEVENT
DTSTART:20150305T033000Z
DTEND:20150304T080000Z
X-MICROSOFT-CDO-ALLDAYEVENT:FALSE
SUMMARY:Very Best Of Celtic Thunder - Sold Out!
DESCRIPTION:The Very Best of Celtic Thunder features an eclectic collection of the group’s best-loved and most popular songs from the past seven years. The Very Best of Celtic Thunder tour aims to combine all Celtic Thunder classics\, fan favorites and hit songs into a formidable stage show\, married with that huge Celtic Thunder signature sound\, dramatic lighting and imposing set that audiences and fans everywhere have come to expect from a Celtic Thunder show.\n\nALERT: DAMIAN MCGINTY HAS JUST JOINED THIS TOUR AS A VERY SPECIAL GUEST ARTIST! MCGINTY WON THE FIRST SEASON OF "THE GLEE PROJECT" AND WENT ON TO BECOME A CAST MEMBER OF "GLEE."\nContact :	Gallo Center\nPhone :	209-338-2100\nEmail :	\nWeb Site :	galloarts.org
X-ALT-DESC;FMTTYPE=text/html:The Very Best of Celtic Thunder features an eclectic collection of the group’s best-loved and most popular songs from the past seven years. The Very Best of Celtic Thunder tour aims to combine all Celtic Thunder classics\, fan favorites and hit songs into a formidable stage show\, married with that huge Celtic Thunder signature sound\, dramatic lighting and imposing set that audiences and fans everywhere have come to expect from a Celtic Thunder show.\n\nALERT: DAMIAN MCGINTY HAS JUST JOINED THIS TOUR AS A VERY SPECIAL GUEST ARTIST! MCGINTY WON THE FIRST SEASON OF "THE GLEE PROJECT" AND WENT ON TO BECOME A CAST MEMBER OF "GLEE."\nContact :	Gallo Center\nPhone :	209-338-2100\nEmail :	\nWeb Site :	galloarts.org
LOCATION:Gallo Center 1000 Street Modesto\, CA 95354
UID:e.2695.780
SEQUENCE:3
DTSTAMP:20260420T074144Z
URL:https://business.modchamber.org/events/details/very-best-of-celtic-thunder-sold-out-03-04-2015-780
END:VEVENT

END:VCALENDAR
