BEGIN:VCALENDAR
VERSION:2.0
PRODID:-//ChamberMaster//Event Calendar 2.0//EN
METHOD:PUBLISH
X-PUBLISHED-TTL:P3D
REFRESH-INTERVAL:P3D
CALSCALE:GREGORIAN
BEGIN:VEVENT
DTSTART:20150830T020000Z
DTEND:20150829T070000Z
X-MICROSOFT-CDO-ALLDAYEVENT:FALSE
SUMMARY:Valley's Got Talent
DESCRIPTION:Fri 8/28/15 7:00PM - Audience Voting Show	» Buy Now\nSat 8/29/15 7:00PM - Final Results Show	» Buy Now\n\nCo-presented by the Gallo Center and the Modesto Bee\, it’s the sixth annual edition of the talent show that has amazed our community each and every year! Come out and experience the exciting artists from around the  San Joaquin Valley—singers\,  dancers\, musicians\, bands and more—as they compete in the finals for cash prizes and glory after months of auditions and rehearsals. The prizes are awarded to the grand prize winner\, as well to competitors in vocal\, dance\, instrumental\, band\, specialty and audience favorite categories. Friday evening's performance is the audience voting show. Prize winners are announced after the Saturday finals performance.
X-ALT-DESC;FMTTYPE=text/html:\nFri 8/28/15 7:00PM - Audience Voting Show	» Buy Now\nSat 8/29/15 7:00PM - Final Results Show	» Buy Now\n\nCo-presented by the Gallo Center and the Modesto Bee\, it’s the sixth annual edition of the talent show that has amazed our community each and every year! Come out and experience the exciting artists from around the  San Joaquin Valley—singers\,  dancers\, musicians\, bands and more—as they compete in the finals for cash prizes and glory after months of auditions and rehearsals. The prizes are awarded to the grand prize winner\, as well to competitors in vocal\, dance\, instrumental\, band\, specialty and audience favorite categories. Friday evening's performance is the audience voting show. Prize winners are announced after the Saturday finals performance.
LOCATION:Gallo Center 1000 I St Modesto\, CA 95354
UID:e.2695.1132
SEQUENCE:3
DTSTAMP:20260420T002852Z
URL:https://business.modchamber.org/events/details/valley-s-got-talent-08-29-2015-1132
END:VEVENT

END:VCALENDAR
