BEGIN:VCALENDAR
VERSION:2.0
PRODID:-//ChamberMaster//Event Calendar 2.0//EN
METHOD:PUBLISH
X-PUBLISHED-TTL:P3D
REFRESH-INTERVAL:P3D
CALSCALE:GREGORIAN
BEGIN:VEVENT
DTSTART:20160205T013000Z
DTEND:20160204T080000Z
X-MICROSOFT-CDO-ALLDAYEVENT:FALSE
SUMMARY:Under the Tuscan Sky Fundraiser-Stanislaus Family Justice Center
DESCRIPTION:Under the Tuscan Sky-\nPlease join us for dinner and fine wines from Italy in the\nbeautiful\, private Underground Cellar of E&J Gallo Winery.\nThursday\, February 4\, 2016\nUnderground Cellar of E&J Gallo Winery\n600 Yosemite Boulevard\nVIP Reception 5:30–6:15 pm\nEvent 6:00–9:00 pm\nCocktails 6:00–7:00 pm\nProgram/Dinner 7:00–9:00 pm\ntickets $200\nContact :	Stanislaus Family Justice Center\nPhone :	209-525-5130\nEmail :	\nWeb Site :
X-ALT-DESC;FMTTYPE=text/html:Under the Tuscan Sky-\nPlease join us for dinner and fine wines from Italy in the\nbeautiful\, private Underground Cellar of E&J Gallo Winery.\nThursday\, February 4\, 2016\nUnderground Cellar of E&J Gallo Winery\n600 Yosemite Boulevard\nVIP Reception 5:30–6:15 pm\nEvent 6:00–9:00 pm\nCocktails 6:00–7:00 pm\nProgram/Dinner 7:00–9:00 pm\ntickets $200\nContact :	Stanislaus Family Justice Center\nPhone :	209-525-5130\nEmail :	\nWeb Site :	
LOCATION:Underground Cellar of E&J Gallo Winery 600 Yosemite Boulevard Modesto\, CA 95351
UID:e.2695.1442
SEQUENCE:3
DTSTAMP:20260419T165008Z
URL:https://business.modchamber.org/events/details/under-the-tuscan-sky-fundraiser-stanislaus-family-justice-center-02-04-2016-1442
END:VEVENT

END:VCALENDAR
