BEGIN:VCALENDAR
VERSION:2.0
PRODID:-//ChamberMaster//Event Calendar 2.0//EN
METHOD:PUBLISH
X-PUBLISHED-TTL:P3D
REFRESH-INTERVAL:P3D
CALSCALE:GREGORIAN
BEGIN:VEVENT
DTSTART:20160205T020000Z
DTEND:20160205T050000Z
X-MICROSOFT-CDO-ALLDAYEVENT:FALSE
SUMMARY:Under the Tucscan Sky
DESCRIPTION:In the Gallo Winery Celler\, a night of fine wine\, great food and information about the Stanislaus Family Justice Center
X-ALT-DESC;FMTTYPE=text/html:In the Gallo Winery Celler\, a night of fine wine\, great food and information about the Stanislaus Family Justice Center
LOCATION:Gallo Winery
UID:e.2695.1441
SEQUENCE:3
DTSTAMP:20260419T164442Z
URL:https://business.modchamber.org/events/details/under-the-tucscan-sky-02-04-2016-1441
END:VEVENT

END:VCALENDAR
