BEGIN:VCALENDAR
VERSION:2.0
PRODID:-//ChamberMaster//Event Calendar 2.0//EN
METHOD:PUBLISH
X-PUBLISHED-TTL:P3D
REFRESH-INTERVAL:P3D
CALSCALE:GREGORIAN
BEGIN:VEVENT
DTSTART:20160122T033000Z
DTEND:20160121T080000Z
X-MICROSOFT-CDO-ALLDAYEVENT:FALSE
SUMMARY:UNDER THE STREETLAMP
DESCRIPTION:Under the Streetlamp\, America’s favorite vocal group with two PBS top specials and legions of faithful fans\, performs an electrifying evening of classic hits from the American radio songbook. Exuding the irresistible rapport of a modern day Rat Pack\, the quartet — recent leading cast members of the Tony Award-winning musical Jersey Boys — deliver an evening of unforgettable entertainment. You’ll hear Doo-Wop\, Motown\, old time Rock ‘n’ Roll and all of your favorite songs from The Drifters\, The Beach Boys\, The Beatles\, and more. Plus a “show-stopping” salute to Frankie Valli and the Four Seasons. \n\nCritics have called Under the Streetlamp “a sure-fire sellout!” All the songs are delivered in the inimitable Under the Streetlamp style\, with tight harmonies and slick dance moves that will take you to back an era of sharkskin suits\, flashy cars\, and martini shakers.\nContact :	Gallo Center\nPhone :	209-338-2100\nEmail :	\nWeb Site :	galloarts.org
X-ALT-DESC;FMTTYPE=text/html:Under the Streetlamp\, America’s favorite vocal group with two PBS top specials and legions of faithful fans\, performs an electrifying evening of classic hits from the American radio songbook. Exuding the irresistible rapport of a modern day Rat Pack\, the quartet — recent leading cast members of the Tony Award-winning musical Jersey Boys — deliver an evening of unforgettable entertainment. You’ll hear Doo-Wop\, Motown\, old time Rock ‘n’ Roll and all of your favorite songs from The Drifters\, The Beach Boys\, The Beatles\, and more. Plus a “show-stopping” salute to Frankie Valli and the Four Seasons. \n\nCritics have called Under the Streetlamp “a sure-fire sellout!” All the songs are delivered in the inimitable Under the Streetlamp style\, with tight harmonies and slick dance moves that will take you to back an era of sharkskin suits\, flashy cars\, and martini shakers.\nContact :	Gallo Center\nPhone :	209-338-2100\nEmail :	\nWeb Site :	galloarts.org
LOCATION:Gallo Center 1000 I St Modesto\, CA 95354
UID:e.2695.1344
SEQUENCE:3
DTSTAMP:20260419T175436Z
URL:https://business.modchamber.org/events/details/under-the-streetlamp-01-21-2016-1344
END:VEVENT

END:VCALENDAR
