BEGIN:VCALENDAR
VERSION:2.0
PRODID:-//ChamberMaster//Event Calendar 2.0//EN
METHOD:PUBLISH
X-PUBLISHED-TTL:P3D
REFRESH-INTERVAL:P3D
CALSCALE:GREGORIAN
BEGIN:VEVENT
DTSTART:20150606T233000Z
DTEND:20150606T070000Z
X-MICROSOFT-CDO-ALLDAYEVENT:FALSE
SUMMARY:Uncle Lonny's Brews\, Blues and BBQ Fundraiser
DESCRIPTION:Uncle Lonny is at it again! Join him on June 6th at the Hope Haven West warehouse and enjoy delicious BBQ\, craft beers\, fine wine and outstanding bands!\n\nThe SunDowners features Bex Marshall\, a powerhouse vocalist from England\, Roy Blumenfeld (Blues Project\, Seatrain)\, Nick Gravenites\, (Barry Melton)\, David Aguilar (Norton Buffalo\, Big Brother and the Holding Company) and Steve Ashman (Zasu Pitts Memorial Orchestra)\n\nManteca’s band Slingshot features Venecia Britton on vocals\, Jim Miksche on guitar\, Craig Corfiatis on bass and Dennis Gonsalves on drums. This band produces soul-reaching blues\, blues rock with a little R&B thrown in for good measure.\n\nDon’ t miss this rocking good time! For more information contact: unclelonnypresents@gmail.com \nContact :	\nPhone :	209-485-4553\nEmail :	\nWeb Site :
X-ALT-DESC;FMTTYPE=text/html:Uncle Lonny is at it again! Join him on June 6th at the Hope Haven West warehouse and enjoy delicious BBQ\, craft beers\, fine wine and outstanding bands!\n\nThe SunDowners features Bex Marshall\, a powerhouse vocalist from England\, Roy Blumenfeld (Blues Project\, Seatrain)\, Nick Gravenites\, (Barry Melton)\, David Aguilar (Norton Buffalo\, Big Brother and the Holding Company) and Steve Ashman (Zasu Pitts Memorial Orchestra)\n\nManteca’s band Slingshot features Venecia Britton on vocals\, Jim Miksche on guitar\, Craig Corfiatis on bass and Dennis Gonsalves on drums. This band produces soul-reaching blues\, blues rock with a little R&B thrown in for good measure.\n\nDon’ t miss this rocking good time! For more information contact: unclelonnypresents@gmail.com \nContact :	\nPhone :	209-485-4553\nEmail :	\nWeb Site :	
LOCATION:Hope Haven West Warehouse 1324 Coldwell Ave Modesto\, CA 95350
UID:e.2695.988
SEQUENCE:3
DTSTAMP:20260420T032041Z
URL:https://business.modchamber.org/events/details/uncle-lonny-s-brews-blues-and-bbq-fundraiser-06-06-2015-988
END:VEVENT

END:VCALENDAR
