BEGIN:VCALENDAR
VERSION:2.0
PRODID:-//ChamberMaster//Event Calendar 2.0//EN
METHOD:PUBLISH
X-PUBLISHED-TTL:P3D
REFRESH-INTERVAL:P3D
CALSCALE:GREGORIAN
BEGIN:VEVENT
DTSTART:20150607T020000Z
DTEND:20150606T070000Z
X-MICROSOFT-CDO-ALLDAYEVENT:FALSE
SUMMARY:Una Noche Llena de Luceros
DESCRIPTION:Una Noche llena de Luceros - Los Luceros de Osborn present a night of cultural dancing. Please join us as we present dances from various states of Mexico. Special appearance by students Erik Carbajal\, Julia and Jenna Hernandez along with live Mariachi music from Mariachi Juvenile Nuevo Generación.\nContact :	Gallo Center\nPhone :	209-338-2100\nEmail :	\nWeb Site :	galloarts.org
X-ALT-DESC;FMTTYPE=text/html:Una Noche llena de Luceros - Los Luceros de Osborn present a night of cultural dancing. Please join us as we present dances from various states of Mexico. Special appearance by students Erik Carbajal\, Julia and Jenna Hernandez along with live Mariachi music from Mariachi Juvenile Nuevo Generación.\nContact :	Gallo Center\nPhone :	209-338-2100\nEmail :	\nWeb Site :	galloarts.org
LOCATION:Gallo Center 1000 I St Modesto\, CA 95354
UID:e.2695.987
SEQUENCE:3
DTSTAMP:20260420T045643Z
URL:https://business.modchamber.org/events/details/una-noche-llena-de-luceros-06-06-2015-987
END:VEVENT

END:VCALENDAR
