BEGIN:VCALENDAR
VERSION:2.0
PRODID:-//ChamberMaster//Event Calendar 2.0//EN
METHOD:PUBLISH
X-PUBLISHED-TTL:P3D
REFRESH-INTERVAL:P3D
CALSCALE:GREGORIAN
BEGIN:VEVENT
DTSTART:20151010T030000Z
DTEND:20151009T070000Z
X-MICROSOFT-CDO-ALLDAYEVENT:FALSE
SUMMARY:UB40
DESCRIPTION:UB40 FEATURING ALI CAMPBELL\, ASTRO\, AND MICKEY VIRTUE\nwww.UB40.org\n\nAli Campbell\, the legendary voice of UB40\, has reunited with fellow founding members Astro and Mickey Virtue\, and the celebrated reggae band from Birmingham\, England is on tour again! The spirit of their old troupe is not far from the surface. The smooth yet rootsy musical blend that they took to all corners of the globe\, that topped the United Kingdom singles chart three times\, and that resulted in more than 70 million records sold\, is still there for their worldwide fans to savor. You remember the hits: “Red Red Wine\,” “(I Can't Help) Falling In Love With You\,” “I Got You Babe\,” and more. Now come and hear them live at the Gallo Center!\nContact :	Gallo Center\nPhone :	209-338-2100\nEmail :	\nWeb Site :	galloarts.org
X-ALT-DESC;FMTTYPE=text/html:UB40 FEATURING ALI CAMPBELL\, ASTRO\, AND MICKEY VIRTUE\nwww.UB40.org\n\nAli Campbell\, the legendary voice of UB40\, has reunited with fellow founding members Astro and Mickey Virtue\, and the celebrated reggae band from Birmingham\, England is on tour again! The spirit of their old troupe is not far from the surface. The smooth yet rootsy musical blend that they took to all corners of the globe\, that topped the United Kingdom singles chart three times\, and that resulted in more than 70 million records sold\, is still there for their worldwide fans to savor. You remember the hits: “Red Red Wine\,” “(I Can't Help) Falling In Love With You\,” “I Got You Babe\,” and more. Now come and hear them live at the Gallo Center!\nContact :	Gallo Center\nPhone :	209-338-2100\nEmail :	\nWeb Site :	galloarts.org
LOCATION:Gallo Center 1000 I St Modesto\, CA 95354
UID:e.2695.1217
SEQUENCE:3
DTSTAMP:20260419T230055Z
URL:https://business.modchamber.org/events/details/ub40-10-09-2015-1217
END:VEVENT

END:VCALENDAR
