BEGIN:VCALENDAR
VERSION:2.0
PRODID:-//ChamberMaster//Event Calendar 2.0//EN
METHOD:PUBLISH
X-PUBLISHED-TTL:P3D
REFRESH-INTERVAL:P3D
CALSCALE:GREGORIAN
BEGIN:VEVENT
DTSTART:20140426T160000Z
DTEND:20140426T220000Z
X-MICROSOFT-CDO-ALLDAYEVENT:FALSE
SUMMARY:Tune In & Tune Up - Car Clean-Up Event
DESCRIPTION:Are you a San Joaquin Valley resident?\nHave you owned your car for more than 6 months?\nDoes your car fail emissions testing?\nIf so\, please join Valley CAN and the San Joaquin\nValley Air PollutionControl District for a FREE\ncar emissions test and diagnostic inspection.
X-ALT-DESC;FMTTYPE=text/html:Are you a San Joaquin Valley resident?\nHave you owned your car for more than 6 months?\nDoes your car fail emissions testing?\nIf so\, please join Valley CAN and the San Joaquin\nValley Air PollutionControl District for a FREE\ncar emissions test and diagnostic inspection.
LOCATION:Stanislaus County Fairgrounds 900 N. Broadway Avenue Turlock\, CA 95380
UID:e.2695.461
SEQUENCE:3
DTSTAMP:20260423T032647Z
URL:https://business.modchamber.org/events/details/tune-in-tune-up-car-clean-up-event-04-26-2014-461
END:VEVENT

END:VCALENDAR
