BEGIN:VCALENDAR
VERSION:2.0
PRODID:-//ChamberMaster//Event Calendar 2.0//EN
METHOD:PUBLISH
X-PUBLISHED-TTL:P3D
REFRESH-INTERVAL:P3D
CALSCALE:GREGORIAN
BEGIN:VEVENT
DTSTART:20160228T230000Z
DTEND:20160228T080000Z
X-MICROSOFT-CDO-ALLDAYEVENT:FALSE
SUMMARY:TRIBUTE TO GLENN MILLER
DESCRIPTION:TRIBUTE TO GLENN MILLER AND THE BIG BAND VOCALISTS \nSTARRING THE TEX BENEKE ORCHESTRA \n\nThe Tex Beneke Orchestra\, led by Jim Snodgrass\, salutes what many consider to be the greatest big band of all-time (“In the Mood\,” Chattanooga Choo Choo\,” “Moonlight Seranade”) along with the great vocalists of the Big Band Era. Special guests for this nostalgic afternoon show are the legendary Ink Spots (“If I Didn’t Care\,” “I Don’t Want to Set the World on Fire”)\, The Lindy Sisters with a rousing tribute to the Andrews Sisters (“Boogie Woogie Bugle Boy”) and Polly Podewell\, the last vocalist to tour with Benny Goodman.\nContact :	Gallo Center\nPhone :	209-338-2100\nEmail :	\nWeb Site :	galloarts.org
X-ALT-DESC;FMTTYPE=text/html:TRIBUTE TO GLENN MILLER AND THE BIG BAND VOCALISTS \nSTARRING THE TEX BENEKE ORCHESTRA \n\nThe Tex Beneke Orchestra\, led by Jim Snodgrass\, salutes what many consider to be the greatest big band of all-time (“In the Mood\,” Chattanooga Choo Choo\,” “Moonlight Seranade”) along with the great vocalists of the Big Band Era. Special guests for this nostalgic afternoon show are the legendary Ink Spots (“If I Didn’t Care\,” “I Don’t Want to Set the World on Fire”)\, The Lindy Sisters with a rousing tribute to the Andrews Sisters (“Boogie Woogie Bugle Boy”) and Polly Podewell\, the last vocalist to tour with Benny Goodman.\nContact :	Gallo Center\nPhone :	209-338-2100\nEmail :	\nWeb Site :	galloarts.org
LOCATION:Gallo Center 1000 I Street Modesto\, CA 95354
UID:e.2695.1433
SEQUENCE:3
DTSTAMP:20260419T164556Z
URL:https://business.modchamber.org/events/details/tribute-to-glenn-miller-02-28-2016-1433
END:VEVENT

END:VCALENDAR
