BEGIN:VCALENDAR
VERSION:2.0
PRODID:-//ChamberMaster//Event Calendar 2.0//EN
METHOD:PUBLISH
X-PUBLISHED-TTL:P3D
REFRESH-INTERVAL:P3D
CALSCALE:GREGORIAN
BEGIN:VEVENT
DTSTART:20160518T220000Z
DTEND:20160519T020000Z
X-MICROSOFT-CDO-ALLDAYEVENT:FALSE
SUMMARY:Tour of California: Modesto Cycling Expo
DESCRIPTION:FREE event!\n\nMusic\, demos\, giveaways & food!\n\nEnjoy an all access pass to the Pit Stop.\n\nMeet & Greet with Professional racers "Fast Freddie" Rodriguez & Jens Voigt.\n\nContact : 	\nPhone : 	\nEmail : 	\nWeb Site : 	www.modestogov.com/bikes
X-ALT-DESC;FMTTYPE=text/html:	FREE event!\n\nMusic\, demos\, giveaways & food!\n\nEnjoy an all access pass to the Pit Stop.\n\nMeet & Greet with Professional racers "Fast Freddie" Rodriguez & Jens Voigt.\n\nContact : 	\nPhone : 	\nEmail : 	\nWeb Site : 	www.modestogov.com/bikes
LOCATION:Centre Plaza Parking Lot 1000 L Street Modesto\, CA 95354
UID:e.2695.1698
SEQUENCE:3
DTSTAMP:20260419T125309Z
URL:https://business.modchamber.org/events/details/tour-of-california-modesto-cycling-expo-05-18-2016-1698
END:VEVENT

END:VCALENDAR
