BEGIN:VCALENDAR
VERSION:2.0
PRODID:-//ChamberMaster//Event Calendar 2.0//EN
METHOD:PUBLISH
X-PUBLISHED-TTL:P3D
REFRESH-INTERVAL:P3D
CALSCALE:GREGORIAN
BEGIN:VEVENT
DTSTART:20150502T023000Z
DTEND:20150501T070000Z
X-MICROSOFT-CDO-ALLDAYEVENT:FALSE
SUMMARY:Tosaca Townsend Opera
DESCRIPTION:Puccini’s masterful drama is an emotionally charged\, intensity filled thriller in which a famous singer\, a rebellious painter and a corrupt police chief engage in a deadly test of wills.\n\nBy Giacomo Puccini (1858-1924)\nSung in Italian with English subtitles\nJoseph Bascetta\, Stage Director\nRyan Murray\, Conductor\nLearn more about Tosca\n\nCast\nFloria Tosca: Jill Gardner\, soprano\nMario Cavaradossi: John Pickle\, Tenor\nBaron Scarpia: TBA\nCesare Angelotti: Eric Downs\, bass-baritone\nA Sacristan: Scott Levin\, baritone\nSpoletta: Max Hosmer\, tenor\nSciarrone: TBA\n\nProduction Team\nStage Director: Joseph Bascetta\nConductor: Ryan Murray\nProduction Design: Stivanello Costume Company (New York)\nLighting Design: Erik Vose\nCostume Design: Tara Roe\nContact :	Gallo Center\nPhone :	209-338-2100\nEmail :	\nWeb Site :	galloarts.org
X-ALT-DESC;FMTTYPE=text/html:	Puccini’s masterful drama is an emotionally charged\, intensity filled thriller in which a famous singer\, a rebellious painter and a corrupt police chief engage in a deadly test of wills.\n\nBy Giacomo Puccini (1858-1924)\nSung in Italian with English subtitles\nJoseph Bascetta\, Stage Director\nRyan Murray\, Conductor\nLearn more about Tosca\n\nCast\nFloria Tosca: Jill Gardner\, soprano\nMario Cavaradossi: John Pickle\, Tenor\nBaron Scarpia: TBA\nCesare Angelotti: Eric Downs\, bass-baritone\nA Sacristan: Scott Levin\, baritone\nSpoletta: Max Hosmer\, tenor\nSciarrone: TBA\n\nProduction Team\nStage Director: Joseph Bascetta\nConductor: Ryan Murray\nProduction Design: Stivanello Costume Company (New York)\nLighting Design: Erik Vose\nCostume Design: Tara Roe\nContact :	Gallo Center\nPhone :	209-338-2100\nEmail :	\nWeb Site :	galloarts.org
LOCATION:Gallo Center 1000 I St Modesto\, CA 95354
UID:e.2695.904
SEQUENCE:3
DTSTAMP:20260420T061457Z
URL:https://business.modchamber.org/events/details/tosaca-townsend-opera-05-01-2015-904
END:VEVENT

END:VCALENDAR
