BEGIN:VCALENDAR
VERSION:2.0
PRODID:-//ChamberMaster//Event Calendar 2.0//EN
METHOD:PUBLISH
X-PUBLISHED-TTL:P3D
REFRESH-INTERVAL:P3D
CALSCALE:GREGORIAN
BEGIN:VEVENT
DTSTART:20160214T220000Z
DTEND:20160214T080000Z
X-MICROSOFT-CDO-ALLDAYEVENT:FALSE
SUMMARY:TOP: SWEENEY TODD - Townsend Opera
DESCRIPTION:By Stephen Sondheim\nFriday\, February 12 (7:30 pm) / Sunday\, February 14 (2:00 pm)\nGallo Center for the Arts\n\nBased on countless serial novels that gripped Londoners during the Victorian era – the more gruesome the better – a barber wrongfully jailed by a corrupt judge returns to nineteenth century London to seek vengeance in Stephen Sondheim’s macabre musical comedy. A mix of intense ballads and music-hall comedy that turns this sordid and bloody tale into riveting entertainment\, Sweeney Todd is widely recognized as one of the greatest scores written for the modern American lyric stage.\n\nExperience this legendary musical comedy like never before: in the full operatic setting many believe this piece deserves – high quality singing and no amplified sound!\n\nMusic by Stephen Sondheim (b. 1930)\nBook by Hugh Wheeler (1912-87)\nBased on the play by Christopher Bond (b. 1945)\nSung in English with English surtitles\nJohn de los Santos\, Director\nRyan Murray\, Conductor\nContact :	Gallo Center\nPhone :	209-338-2100\nEmail :	\nWeb Site :	galloarts.org
X-ALT-DESC;FMTTYPE=text/html:By Stephen Sondheim\nFriday\, February 12 (7:30 pm) / Sunday\, February 14 (2:00 pm)\nGallo Center for the Arts\n\nBased on countless serial novels that gripped Londoners during the Victorian era – the more gruesome the better – a barber wrongfully jailed by a corrupt judge returns to nineteenth century London to seek vengeance in Stephen Sondheim’s macabre musical comedy. A mix of intense ballads and music-hall comedy that turns this sordid and bloody tale into riveting entertainment\, Sweeney Todd is widely recognized as one of the greatest scores written for the modern American lyric stage.\n\nExperience this legendary musical comedy like never before: in the full operatic setting many believe this piece deserves – high quality singing and no amplified sound!\n\nMusic by Stephen Sondheim (b. 1930)\nBook by Hugh Wheeler (1912-87)\nBased on the play by Christopher Bond (b. 1945)\nSung in English with English surtitles\nJohn de los Santos\, Director\nRyan Murray\, Conductor\nContact :	Gallo Center\nPhone :	209-338-2100\nEmail :	\nWeb Site :	galloarts.org
LOCATION:Gallo Center 1000 I Street Modesto\, CA 95354
UID:e.2695.1438
SEQUENCE:3
DTSTAMP:20260419T164539Z
URL:https://business.modchamber.org/events/details/top-sweeney-todd-townsend-opera-02-14-2016-1438
END:VEVENT

END:VCALENDAR
