BEGIN:VCALENDAR
VERSION:2.0
PRODID:-//ChamberMaster//Event Calendar 2.0//EN
METHOD:PUBLISH
X-PUBLISHED-TTL:P3D
REFRESH-INTERVAL:P3D
CALSCALE:GREGORIAN
BEGIN:VEVENT
DTSTART:20160329T023000Z
DTEND:20160328T070000Z
X-MICROSOFT-CDO-ALLDAYEVENT:FALSE
SUMMARY:TOP: SISTER HELEN PREJEAN-Townsend Opera
DESCRIPTION:Sister Helen Prejean\, the noted author and death penalty reform activist famous for her advocacy for death row inmates\, will make an appearance in Modesto on Monday\, March 28 and give a speech at the Gallo Center for the Arts about her personal spiritual journey in providing council to condemned men. Noted for her passionate presentations and her comedic disposition\, Sister Helen Prejean is in wide demand as a guest speaker and lecturer on the subject of capital punishment in the United States.\n\nWell recognized around the world\, Sister Helen Prejean wrote the award-winning memoir Dead Man Walking based on her experiences providing spiritual council to death row inmates at Angola State Penitentiary in Louisiana. Her memoir served as the basis for the feature film of the same title starring Susan Sarandon and Sean Penn. Susan Sarandon won an Academy Award for her portrayal of Sister Helen Prejean. Her memoir also served as the basis for the opera Dead Man Walking\, which will be performed by Townsend Opera.\n\n$100 - VIP Package\nSeats in the two front rows and a private catered reception with Sister Helen following her speech.\n$55-$65 - Boxes\n$45 - Lower Orchestra\n$25 - All remaining seats\nContact : 	Gallo Center\nPhone : 	209-338-2100\nEmail : 	\nWeb Site : 	galloarts.org
X-ALT-DESC;FMTTYPE=text/html:Sister Helen Prejean\, the noted author and death penalty reform activist famous for her advocacy for death row inmates\, will make an appearance in Modesto on Monday\, March 28 and give a speech at the Gallo Center for the Arts about her personal spiritual journey in providing council to condemned men. Noted for her passionate presentations and her comedic disposition\, Sister Helen Prejean is in wide demand as a guest speaker and lecturer on the subject of capital punishment in the United States.\n\nWell recognized around the world\, Sister Helen Prejean wrote the award-winning memoir Dead Man Walking based on her experiences providing spiritual council to death row inmates at Angola State Penitentiary in Louisiana. Her memoir served as the basis for the feature film of the same title starring Susan Sarandon and Sean Penn. Susan Sarandon won an Academy Award for her portrayal of Sister Helen Prejean. Her memoir also served as the basis for the opera Dead Man Walking\, which will be performed by Townsend Opera.\n\n$100 - VIP Package\nSeats in the two front rows and a private catered reception with Sister Helen following her speech.\n$55-$65 - Boxes\n$45 - Lower Orchestra\n$25 - All remaining seats\nContact : 	Gallo Center\nPhone : 	209-338-2100\nEmail : 	\nWeb Site : 	galloarts.org\n\n
LOCATION:Gallo Center 1000 I Street Modesto\, CA 95354
UID:e.2695.1605
SEQUENCE:3
DTSTAMP:20260419T154456Z
URL:https://business.modchamber.org/events/details/top-sister-helen-prejean-townsend-opera-03-28-2016-1605
END:VEVENT

END:VCALENDAR
