BEGIN:VCALENDAR
VERSION:2.0
PRODID:-//ChamberMaster//Event Calendar 2.0//EN
METHOD:PUBLISH
X-PUBLISHED-TTL:P3D
REFRESH-INTERVAL:P3D
CALSCALE:GREGORIAN
BEGIN:VEVENT
DTSTART:20160415T023000Z
DTEND:20160414T070000Z
X-MICROSOFT-CDO-ALLDAYEVENT:FALSE
SUMMARY:TOP: RECITAL SERIES #3
DESCRIPTION:Seeking to encourage active participation in the arts in our region\, Townsend Opera is launching a recital series to highlight the many talented singers living and working in our community. Presented in the casual atmosphere of Deva Cafe in downtown Modesto\, these recitals will allow opera patrons to enjoy quality singing in an intimate and personal setting while creating a platform for local artists to perform in our community. Specific artists to be announced at a later date.\nContact :	Gallo Center\nPhone :	209-338-2100\nEmail :	\nWeb Site :	galloarts.org
X-ALT-DESC;FMTTYPE=text/html:Seeking to encourage active participation in the arts in our region\, Townsend Opera is launching a recital series to highlight the many talented singers living and working in our community. Presented in the casual atmosphere of Deva Cafe in downtown Modesto\, these recitals will allow opera patrons to enjoy quality singing in an intimate and personal setting while creating a platform for local artists to perform in our community. Specific artists to be announced at a later date.\nContact :	Gallo Center\nPhone :	209-338-2100\nEmail :	\nWeb Site :	galloarts.org
LOCATION:Gallo Center 1000 I Street Modesto\, CA 95354
UID:e.2695.1480
SEQUENCE:3
DTSTAMP:20260419T152649Z
URL:https://business.modchamber.org/events/details/top-recital-series-3-04-14-2016-1480
END:VEVENT

END:VCALENDAR
