BEGIN:VCALENDAR
VERSION:2.0
PRODID:-//ChamberMaster//Event Calendar 2.0//EN
METHOD:PUBLISH
X-PUBLISHED-TTL:P3D
REFRESH-INTERVAL:P3D
CALSCALE:GREGORIAN
BEGIN:VEVENT
DTSTART:20160126T230000Z
DTEND:20160126T080000Z
X-MICROSOFT-CDO-ALLDAYEVENT:FALSE
SUMMARY:Tom Rigney & Flambeau
DESCRIPTION:Light Your Musical Fire on a Cold January Afternoon\n\nTom Rigney and Flambeau will tear the roof off anyplace that has one. Flambeau specializes in fiery Cajun and zydeco two-steps\, low-down blues\, funky New Orleans grooves\, and heartbreakingly beautiful ballads and waltzes–a musical gumbo of tasty global sounds stirred together with Rigney’s virtuosic talent\, charismatic stage presence\, and enough high energy to lift an audience to its feet.\nContact :	\nPhone :	209-571-6060\nEmail :	\nWeb Site :	http://sundaysatcbs.com/
X-ALT-DESC;FMTTYPE=text/html:Light Your Musical Fire on a Cold January Afternoon\n\nTom Rigney and Flambeau will tear the roof off anyplace that has one. Flambeau specializes in fiery Cajun and zydeco two-steps\, low-down blues\, funky New Orleans grooves\, and heartbreakingly beautiful ballads and waltzes–a musical gumbo of tasty global sounds stirred together with Rigney’s virtuosic talent\, charismatic stage presence\, and enough high energy to lift an audience to its feet.\nContact :	\nPhone :	209-571-6060\nEmail :	\nWeb Site :	http://sundaysatcbs.com/
LOCATION:Congregation Beth Shalom 1705 Sherwood Ave Modesto\, CA 95355
UID:e.2695.1347
SEQUENCE:3
DTSTAMP:20260419T191008Z
URL:https://business.modchamber.org/events/details/tom-rigney-flambeau-01-26-2016-1347
END:VEVENT

END:VCALENDAR
