BEGIN:VCALENDAR
VERSION:2.0
PRODID:-//ChamberMaster//Event Calendar 2.0//EN
METHOD:PUBLISH
X-PUBLISHED-TTL:P3D
REFRESH-INTERVAL:P3D
CALSCALE:GREGORIAN
BEGIN:VEVENT
DTSTART:20150412T020000Z
DTEND:20150411T070000Z
X-MICROSOFT-CDO-ALLDAYEVENT:FALSE
SUMMARY:Tom Petty Tribute Show
DESCRIPTION:Join Gary Nelson\, The Modesto View\, The Hawk 104.1 and Ron   Show at 7 p.m.\nGeneral admission tickets are $10\nContact : 	State Theatre\nPhone : 	BOX OFFICE (209) 527-4697\nEmail : 	\nWeb Site : 	thestate.org
X-ALT-DESC;FMTTYPE=text/html:	Join Gary Nelson\, The Modesto View\, The Hawk 104.1 and Ron & Doug’s Excellent Promotions for a night of local music when Doug Petty & The Chartbreakers pay tribute to Rock and Roll Hall of Famer\, musician\, singer\, songwriter\, multi-instrumentalist and record producer Tom Petty. One of the best-selling artists of all time\, Petty has sold more than 80 million records worldwide ~ and now you can hear some of his hits featuring Marirose as Stevie Nicks with a special guest appearance by Mike Allsup. Also performing are the Sweet Pea Knickers Dancers and a variety of actresses acting out scenes from Alice in Wonderland. Plus special appearances by The Joe Barreta Band\, Shay with Nate and the Third Party Band.\nDoors at 6\; Show at 7 p.m.\nGeneral admission tickets are $10\nContact : 	State Theatre\nPhone : 	BOX OFFICE (209) 527-4697\nEmail : 	\nWeb Site : 	thestate.org
LOCATION:State Theatre 1307 J St Modesto\, CA 95354
UID:e.2695.860
SEQUENCE:3
DTSTAMP:20260420T063056Z
URL:https://business.modchamber.org/events/details/tom-petty-tribute-show-04-11-2015-860
END:VEVENT

END:VCALENDAR
