BEGIN:VCALENDAR
VERSION:2.0
PRODID:-//ChamberMaster//Event Calendar 2.0//EN
METHOD:PUBLISH
X-PUBLISHED-TTL:P3D
REFRESH-INTERVAL:P3D
CALSCALE:GREGORIAN
BEGIN:VEVENT
DTSTART:20140426T200000Z
DTEND:20140426T220000Z
X-MICROSOFT-CDO-ALLDAYEVENT:FALSE
SUMMARY:Toastmasters Open House
DESCRIPTION:Learn about how joining Toastmasters can help you in many aspects in your life.  Get over the fear of speaking in front of groups of any size.  Learn the tips and tricks professional speakers use.
X-ALT-DESC;FMTTYPE=text/html:Learn about how joining Toastmasters can help you in many aspects in your life.  Get over the fear of speaking in front of groups of any size.  Learn the tips and tricks professional speakers use.
LOCATION:Medic Alert 2323 Colorado Avenue Turlock\, CA 95382
UID:e.2695.460
SEQUENCE:3
DTSTAMP:20260423T014756Z
URL:https://business.modchamber.org/events/details/toastmasters-open-house-04-26-2014-460
END:VEVENT

END:VCALENDAR
