BEGIN:VCALENDAR
VERSION:2.0
PRODID:-//ChamberMaster//Event Calendar 2.0//EN
METHOD:PUBLISH
X-PUBLISHED-TTL:P3D
REFRESH-INTERVAL:P3D
CALSCALE:GREGORIAN
BEGIN:VEVENT
DTSTART:20150411T173000Z
DTEND:20150411T070000Z
X-MICROSOFT-CDO-ALLDAYEVENT:FALSE
SUMMARY:Tiny Tim Auxiliary Spring Lucheon Fundraiser
DESCRIPTION:Annual Luncheon Fundraiser. Luncheon\, raffle and fashion show just $45.\nContact : 	\nPhone : 	(209) 577-0138\nEmail : 	\nWeb Site : 	www.childrenscrisiscenter.com
X-ALT-DESC;FMTTYPE=text/html:	Annual Luncheon Fundraiser. Luncheon\, raffle and fashion show just $45.\nContact : 	\nPhone : 	(209) 577-0138\nEmail : 	\nWeb Site : 	www.childrenscrisiscenter.com
LOCATION:Del Rio Country Club 801 Stewart Rd Modesto\, CA 95356
UID:e.2695.859
SEQUENCE:3
DTSTAMP:20260420T062614Z
URL:https://business.modchamber.org/events/details/tiny-tim-auxiliary-spring-lucheon-fundraiser-04-11-2015-859
END:VEVENT

END:VCALENDAR
