BEGIN:VCALENDAR
VERSION:2.0
PRODID:-//ChamberMaster//Event Calendar 2.0//EN
METHOD:PUBLISH
X-PUBLISHED-TTL:P3D
REFRESH-INTERVAL:P3D
CALSCALE:GREGORIAN
BEGIN:VEVENT
DTSTART:20160508T020000Z
DTEND:20160507T070000Z
X-MICROSOFT-CDO-ALLDAYEVENT:FALSE
SUMMARY:Tim Flannery & Lunatic Fringe Concert
DESCRIPTION:Great Bluegrass Music Concert under the stars featuring Tim Flannery\, former 3rd base coach of the San Francisco Giants. Sprinkled among the songs are great memorable moments of Tim’s time with the Giants as they won three world championships. Evening includes a sports memorabilia silent auction\, special gift basket raffles and more.\n\nTickets $50 - $52.00\nContact : 	\nPhone : 	\nEmail : 	\nWeb Site : 	www.omeganupresents.com
X-ALT-DESC;FMTTYPE=text/html:	Great Bluegrass Music Concert under the stars featuring Tim Flannery\, former 3rd base coach of the San Francisco Giants. Sprinkled among the songs are great memorable moments of Tim’s time with the Giants as they won three world championships. Evening includes a sports memorabilia silent auction\, special gift basket raffles and more.\n\nTickets $50 - $52.00\nContact : 	\nPhone : 	\nEmail : 	\nWeb Site : 	www.omeganupresents.com
LOCATION:Old Fisherman's Club 10800 Hwy 132 Modesto\, CA 95351
UID:e.2695.1691
SEQUENCE:3
DTSTAMP:20260419T125207Z
URL:https://business.modchamber.org/events/details/tim-flannery-lunatic-fringe-concert-05-07-2016-1691
END:VEVENT

END:VCALENDAR
