BEGIN:VCALENDAR
VERSION:2.0
PRODID:-//ChamberMaster//Event Calendar 2.0//EN
METHOD:PUBLISH
X-PUBLISHED-TTL:P3D
REFRESH-INTERVAL:P3D
CALSCALE:GREGORIAN
BEGIN:VEVENT
DTSTART:20150809T020000Z
DTEND:20150808T080000Z
X-MICROSOFT-CDO-ALLDAYEVENT:FALSE
SUMMARY:Thomas Downey High School Clas of 1985 Reunion
DESCRIPTION:30 Years! Can you believe it has almost been that long since we all graduated? Please save Saturday August 8th 2015 to reunite for an evening of good food\, good drinks (!)\, and great conversation with your former classmates! Looking forward to seeing everyone there!\nContact :	\nPhone :	209-981-2311
X-ALT-DESC;FMTTYPE=text/html:30 Years! Can you believe it has almost been that long since we all graduated? Please save Saturday August 8th 2015 to reunite for an evening of good food\, good drinks (!)\, and great conversation with your former classmates! Looking forward to seeing everyone there!\nContact :	\nPhone :	209-981-2311
LOCATION:Urbanos American Bistro 1016 H St Modesto\, CA 95354
UID:e.2695.1160
SEQUENCE:3
DTSTAMP:20260420T003416Z
URL:https://business.modchamber.org/events/details/thomas-downey-high-school-clas-of-1985-reunion-08-08-2015-1160
END:VEVENT

END:VCALENDAR
