BEGIN:VCALENDAR
VERSION:2.0
PRODID:-//ChamberMaster//Event Calendar 2.0//EN
METHOD:PUBLISH
X-PUBLISHED-TTL:P3D
REFRESH-INTERVAL:P3D
CALSCALE:GREGORIAN
BEGIN:VEVENT
DTSTART:20160318T000000Z
DTEND:20160318T040000Z
X-MICROSOFT-CDO-ALLDAYEVENT:FALSE
SUMMARY:Third Thursday Artwalk
DESCRIPTION:The Third Thursday of every month there is an Artwalk\, downtown Modesto. Stop by our office (The Modesto Convention and Visitors Bureau\, 1150 9th Street Suite C) and pick up a map! Enjoy art\, friends\, light music and refreshments. All year long in DOWNTOWN MODESTO.\nContact : 	\nPhone : 	209-579-2173\nEmail : 	\nWeb Site : 	www.modestoartwalk.com
X-ALT-DESC;FMTTYPE=text/html:	The Third Thursday of every month there is an Artwalk\, downtown Modesto. Stop by our office (The Modesto Convention and Visitors Bureau\, 1150 9th Street Suite C) and pick up a map! Enjoy art\, friends\, light music and refreshments. All year long in DOWNTOWN MODESTO.\nContact : 	\nPhone : 	209-579-2173\nEmail : 	\nWeb Site : 	www.modestoartwalk.com\n\n
LOCATION:Downtown Modesto
UID:e.2695.1567
SEQUENCE:3
DTSTAMP:20260419T152341Z
URL:https://business.modchamber.org/events/details/third-thursday-artwalk-03-17-2016-1567
END:VEVENT

END:VCALENDAR
