BEGIN:VCALENDAR
VERSION:2.0
PRODID:-//ChamberMaster//Event Calendar 2.0//EN
METHOD:PUBLISH
X-PUBLISHED-TTL:P3D
REFRESH-INTERVAL:P3D
CALSCALE:GREGORIAN
BEGIN:VEVENT
DTSTART:20160305T040000Z
DTEND:20160304T080000Z
X-MICROSOFT-CDO-ALLDAYEVENT:FALSE
SUMMARY:THE VON TRAPPS
DESCRIPTION:You cannot find another name as universally beloved as von Trapp. The story of the family who escaped Austria\, moved to the United States\, and toured the world singing for two decades has inspired generations since the film The Sound of Music was released in 1964. The history continues as the great grandchildren of the Captain and Maria von Trapp take up the family tradition anew. Meet Sofi\, Melanie\, Amanda\, and August von Trapp\, four siblings that\, for the last 12 years\, have been singing on stages around the world to critical acclaim and packed houses.\nContact :	Gallo Center\nPhone :	209-338-2100\nEmail :	\nWeb Site :	galloarts.org
X-ALT-DESC;FMTTYPE=text/html:You cannot find another name as universally beloved as von Trapp. The story of the family who escaped Austria\, moved to the United States\, and toured the world singing for two decades has inspired generations since the film The Sound of Music was released in 1964. The history continues as the great grandchildren of the Captain and Maria von Trapp take up the family tradition anew. Meet Sofi\, Melanie\, Amanda\, and August von Trapp\, four siblings that\, for the last 12 years\, have been singing on stages around the world to critical acclaim and packed houses.\nContact :	Gallo Center\nPhone :	209-338-2100\nEmail :	\nWeb Site :	galloarts.org
LOCATION:Gallo Center 1000 I Street Modesto\, CA 95354
UID:e.2695.661
SEQUENCE:3
DTSTAMP:20260419T153547Z
URL:https://business.modchamber.org/events/details/the-von-trapps-03-04-2016-661
END:VEVENT

END:VCALENDAR
