BEGIN:VCALENDAR
VERSION:2.0
PRODID:-//ChamberMaster//Event Calendar 2.0//EN
METHOD:PUBLISH
X-PUBLISHED-TTL:P3D
REFRESH-INTERVAL:P3D
CALSCALE:GREGORIAN
BEGIN:VEVENT
DTSTART:20151201T033000Z
DTEND:20151130T080000Z
X-MICROSOFT-CDO-ALLDAYEVENT:FALSE
SUMMARY:THE TEN TENORS
DESCRIPTION:What better way to celebrate the holiday season than with international singing sensation The TEN Tenors? Join Australia’s rock stars of the opera world as they amaze and enthrall with traditional and contemporary seasonal favorites\, including soaring versions of “Joy to the World\,” “Sleigh Ride\,” “White Christmas\,” “Amazing Grace\,” “Winter Wonderland\,” and “Feliz Navidad\,” among many others. They’ve dazzled\, delighted and captivated more than 90 million people worldwide\; now they’re coming to the Gallo Center!\nContact :	Gallo Center\nPhone :	209-338-2100\nEmail :	\nWeb Site :	galloarts.org
X-ALT-DESC;FMTTYPE=text/html:What better way to celebrate the holiday season than with international singing sensation The TEN Tenors? Join Australia’s rock stars of the opera world as they amaze and enthrall with traditional and contemporary seasonal favorites\, including soaring versions of “Joy to the World\,” “Sleigh Ride\,” “White Christmas\,” “Amazing Grace\,” “Winter Wonderland\,” and “Feliz Navidad\,” among many others. They’ve dazzled\, delighted and captivated more than 90 million people worldwide\; now they’re coming to the Gallo Center!\nContact :	Gallo Center\nPhone :	209-338-2100\nEmail :	\nWeb Site :	galloarts.org
LOCATION:Gallo Center 1000 I St Modesto\, CA 95354
UID:e.2695.1286
SEQUENCE:3
DTSTAMP:20260419T214643Z
URL:https://business.modchamber.org/events/details/the-ten-tenors-11-30-2015-1286
END:VEVENT

END:VCALENDAR
