BEGIN:VCALENDAR
VERSION:2.0
PRODID:-//ChamberMaster//Event Calendar 2.0//EN
METHOD:PUBLISH
X-PUBLISHED-TTL:P3D
REFRESH-INTERVAL:P3D
CALSCALE:GREGORIAN
BEGIN:VEVENT
DTSTART;VALUE=DATE:20150306
DTEND;VALUE=DATE:20150309
TRANSP:TRANSPARENT
X-MICROSOFT-CDO-ALLDAYEVENT:TRUE
SUMMARY:The Stanislaus County Home & Garden Show
DESCRIPTION:The Stanislaus County Home & Garden Show offers homeowners and future homeowners the opportunity to visit several vendors in one place at one time. Guests can visit vendors and get tips and new ideas to help improve and beautify their homes and yards.\n\nOur Stanislaus show is jam packed with fun features. We have our Food Truck Wars which gives show goers a chance to try several gourmet food trucks and fun activities for the kids provided by the Zombie Club (The Zombie Club is a local group that puts on family friendly events in San Joaquin County and beyond).\n\nFriday 12pm – 6pm Saturday and Sunday 10am – 5pm\n\n$3 general admission. Senior Citizens $2 on Friday. Free tickets and more information on our Facebook page.\nContact :	\nPhone :	209-941-1880\nEmail :	\nWeb Site :	metroexpositions.com/the-stanislaus-county-home-garden-show
X-ALT-DESC;FMTTYPE=text/html:The Stanislaus County Home & Garden Show offers homeowners and future homeowners the opportunity to visit several vendors in one place at one time. Guests can visit vendors and get tips and new ideas to help improve and beautify their homes and yards.\n\nOur Stanislaus show is jam packed with fun features. We have our Food Truck Wars which gives show goers a chance to try several gourmet food trucks and fun activities for the kids provided by the Zombie Club (The Zombie Club is a local group that puts on family friendly events in San Joaquin County and beyond).\n\nFriday 12pm – 6pm Saturday and Sunday 10am – 5pm\n\n$3 general admission. Senior Citizens $2 on Friday. Free tickets and more information on our Facebook page.\nContact :	\nPhone :	209-941-1880\nEmail :	\nWeb Site :	metroexpositions.com/the-stanislaus-county-home-garden-show\n
LOCATION:Centre Plaza 1000 L Street Modesto\, CA 95354
UID:e.2695.630
SEQUENCE:3
DTSTAMP:20260420T074141Z
URL:https://business.modchamber.org/events/details/the-stanislaus-county-home-garden-show-03-06-2015-630
END:VEVENT

END:VCALENDAR
