BEGIN:VCALENDAR
VERSION:2.0
PRODID:-//ChamberMaster//Event Calendar 2.0//EN
METHOD:PUBLISH
X-PUBLISHED-TTL:P3D
REFRESH-INTERVAL:P3D
CALSCALE:GREGORIAN
BEGIN:VEVENT
DTSTART:20160227T033000Z
DTEND:20160226T080000Z
X-MICROSOFT-CDO-ALLDAYEVENT:FALSE
SUMMARY:THE SPIRIT OF HARRIET TUBMAN
DESCRIPTION:THE SPIRIT OF HARRIET TUBMAN\nWritten & Performed by Leslie McCurdy \n\nBorn into slavery in Maryland\, Harriet Tubman not only ran away alone to escape slavery\, she returned to the south 19 times to lead more than 300 other slaves to freedom in the northern United States and Canada. Her work as a nurse and a spy during the Civil War was instrumental in helping the North defeat the South\, thus forcing the abolition of slavery in the United States. In this riveting portrayal by actor-singer-dancer-teacher Leslie McCurdy\, Tubman is brought to life in one breathtaking hour!\nContact :	Gallo Center\nPhone :	209-338-2100\nEmail :	\nWeb Site :	galloarts.org
X-ALT-DESC;FMTTYPE=text/html:THE SPIRIT OF HARRIET TUBMAN\nWritten & Performed by Leslie McCurdy \n\nBorn into slavery in Maryland\, Harriet Tubman not only ran away alone to escape slavery\, she returned to the south 19 times to lead more than 300 other slaves to freedom in the northern United States and Canada. Her work as a nurse and a spy during the Civil War was instrumental in helping the North defeat the South\, thus forcing the abolition of slavery in the United States. In this riveting portrayal by actor-singer-dancer-teacher Leslie McCurdy\, Tubman is brought to life in one breathtaking hour!\nContact :	Gallo Center\nPhone :	209-338-2100\nEmail :	\nWeb Site :	galloarts.org
LOCATION:Gallo Center 1000 I Street Modesto\, CA 95354
UID:e.2695.1400
SEQUENCE:3
DTSTAMP:20260419T165039Z
URL:https://business.modchamber.org/events/details/the-spirit-of-harriet-tubman-02-26-2016-1400
END:VEVENT

END:VCALENDAR
