BEGIN:VCALENDAR
VERSION:2.0
PRODID:-//ChamberMaster//Event Calendar 2.0//EN
METHOD:PUBLISH
X-PUBLISHED-TTL:P3D
REFRESH-INTERVAL:P3D
CALSCALE:GREGORIAN
BEGIN:VEVENT
DTSTART:20150314T030000Z
DTEND:20150313T070000Z
X-MICROSOFT-CDO-ALLDAYEVENT:FALSE
SUMMARY:The Sounds Of New Orleans
DESCRIPTION:Hilmar Cheese Company Pops Series\n\nThe Sounds of New Orleans: \nA Louis Armstrong Tribute\n\nMichael Berkowitz\, conductor\nByron Stripling\, trumpet & vocalist\n\nProgram\nThis musical showcase of the “Big Easy” features a loving tribute to Louis Armstrong. From “St. Louis Blues” and “Sweet Georgia Brown” to “What a Wonderful World” and “When the Saints Come Marching In\,” virtuoso trumpeter and singer Byron Stripling leads a swinging evening of the sounds that will make your toes tap\, your feet stamp and your soul beg for more.\n"Shine"\nByron Stripling - 2000\nContact :	Gallo Center\nPhone :	209-338-2100\nEmail :	\nWeb Site :	galloarts.org
X-ALT-DESC;FMTTYPE=text/html:Hilmar Cheese Company Pops Series\n\nThe Sounds of New Orleans: \nA Louis Armstrong Tribute\n\nMichael Berkowitz\, conductor\nByron Stripling\, trumpet & vocalist\n\nProgram\nThis musical showcase of the “Big Easy” features a loving tribute to Louis Armstrong. From “St. Louis Blues” and “Sweet Georgia Brown” to “What a Wonderful World” and “When the Saints Come Marching In\,” virtuoso trumpeter and singer Byron Stripling leads a swinging evening of the sounds that will make your toes tap\, your feet stamp and your soul beg for more.\n"Shine"\nByron Stripling - 2000\nContact :	Gallo Center\nPhone :	209-338-2100\nEmail :	\nWeb Site :	galloarts.org
LOCATION:Gallo Center 1000 I Street Modesto\, CA 95354
UID:e.2695.791
SEQUENCE:3
DTSTAMP:20260420T074223Z
URL:https://business.modchamber.org/events/details/the-sounds-of-new-orleans-03-13-2015-791
END:VEVENT

END:VCALENDAR
