BEGIN:VCALENDAR
VERSION:2.0
PRODID:-//ChamberMaster//Event Calendar 2.0//EN
METHOD:PUBLISH
X-PUBLISHED-TTL:P3D
REFRESH-INTERVAL:P3D
CALSCALE:GREGORIAN
BEGIN:VEVENT
DTSTART:20151209T030000Z
DTEND:20151208T080000Z
X-MICROSOFT-CDO-ALLDAYEVENT:FALSE
SUMMARY:THE SNOW QUEEN
DESCRIPTION:The Davis High School Drama Department recreates Hans Christian Andersen’s classic tale of The Snow Queen by infusing humor and audience interaction into this timeless story.\nContact :	Gallo Center\nPhone :	209-338-2100\nEmail :	\nWeb Site :	galloarts.org
X-ALT-DESC;FMTTYPE=text/html:The Davis High School Drama Department recreates Hans Christian Andersen’s classic tale of The Snow Queen by infusing humor and audience interaction into this timeless story.\nContact :	Gallo Center\nPhone :	209-338-2100\nEmail :	\nWeb Site :	galloarts.org
LOCATION:Gallo Center 1000 I St Modesto\, CA 95354
UID:e.2695.1299
SEQUENCE:3
DTSTAMP:20260419T190642Z
URL:https://business.modchamber.org/events/details/the-snow-queen-12-08-2015-1299
END:VEVENT

END:VCALENDAR
